BEGIN:VCALENDAR
VERSION:2.0
PRODID:-//Missouri SBDC - ECPv6.15.12.2//NONSGML v1.0//EN
CALSCALE:GREGORIAN
METHOD:PUBLISH
X-WR-CALNAME:Missouri SBDC
X-ORIGINAL-URL:https://sbdc.prodjex.dev
X-WR-CALDESC:Events for Missouri SBDC
REFRESH-INTERVAL;VALUE=DURATION:PT1H
X-Robots-Tag:noindex
X-PUBLISHED-TTL:PT1H
BEGIN:VTIMEZONE
TZID:America/Chicago
BEGIN:DAYLIGHT
TZOFFSETFROM:-0600
TZOFFSETTO:-0500
TZNAME:CDT
DTSTART:20220313T080000
END:DAYLIGHT
BEGIN:STANDARD
TZOFFSETFROM:-0500
TZOFFSETTO:-0600
TZNAME:CST
DTSTART:20221106T070000
END:STANDARD
BEGIN:DAYLIGHT
TZOFFSETFROM:-0600
TZOFFSETTO:-0500
TZNAME:CDT
DTSTART:20230312T080000
END:DAYLIGHT
BEGIN:STANDARD
TZOFFSETFROM:-0500
TZOFFSETTO:-0600
TZNAME:CST
DTSTART:20231105T070000
END:STANDARD
BEGIN:DAYLIGHT
TZOFFSETFROM:-0600
TZOFFSETTO:-0500
TZNAME:CDT
DTSTART:20240310T080000
END:DAYLIGHT
BEGIN:STANDARD
TZOFFSETFROM:-0500
TZOFFSETTO:-0600
TZNAME:CST
DTSTART:20241103T070000
END:STANDARD
END:VTIMEZONE
BEGIN:VEVENT
DTSTART;TZID=America/Chicago:20230614T120000
DTEND;TZID=America/Chicago:20230614T140000
DTSTAMP:20260420T175628
CREATED:20230404T010840Z
LAST-MODIFIED:20230404T010840Z
UID:10000442-1686744000-1686751200@sbdc.prodjex.dev
SUMMARY:Customer Discovery: Unlocking the Mystery for Success
DESCRIPTION:Customer Discovery: Unlocking the Mystery For Success is athree-session\, hands-on\, interactive workshop for small businessowners and managers. Each week you will dig into details of yourbusiness to identify what you can do to take control of thesuccess of your business. \n\n\n\nThis is a 3 week course on June 14\, 21 and 28 from Noon to 2pm – attendance all three weeks is expected. \n\n\n\nDuring the course of the sessions you will: \n\n\n\n\nDevelop a Business Model Canvas and Value Proposition todifferentiate your business\n\n\n\nDiscover product/service need by determining customerproblems and the solutions you provide\n\n\n\nTest your product/service ideas through customer interviewsto determine viability\n\n\n\nReceive individual feedback to enhance and sharpen yourideas\n\n\n\nLearn about federal grants and other funding opportunities\n\n\n\n\n\nRegister here
URL:https://sbdc.prodjex.dev/event/customer-discovery-unlocking-the-mystery-for-success/
LOCATION:St. Joseph Chamber of Commerce\, 3003 Frederick Ave\, St. Joseph\, Missouri\, 64506\, United States
END:VEVENT
END:VCALENDAR