BEGIN:VCALENDAR
VERSION:2.0
PRODID:-//Missouri SBDC - ECPv6.15.12.2//NONSGML v1.0//EN
CALSCALE:GREGORIAN
METHOD:PUBLISH
X-WR-CALNAME:Missouri SBDC
X-ORIGINAL-URL:https://sbdc.prodjex.dev
X-WR-CALDESC:Events for Missouri SBDC
REFRESH-INTERVAL;VALUE=DURATION:PT1H
X-Robots-Tag:noindex
X-PUBLISHED-TTL:PT1H
BEGIN:VTIMEZONE
TZID:America/Chicago
BEGIN:DAYLIGHT
TZOFFSETFROM:-0600
TZOFFSETTO:-0500
TZNAME:CDT
DTSTART:20220313T080000
END:DAYLIGHT
BEGIN:STANDARD
TZOFFSETFROM:-0500
TZOFFSETTO:-0600
TZNAME:CST
DTSTART:20221106T070000
END:STANDARD
BEGIN:DAYLIGHT
TZOFFSETFROM:-0600
TZOFFSETTO:-0500
TZNAME:CDT
DTSTART:20230312T080000
END:DAYLIGHT
BEGIN:STANDARD
TZOFFSETFROM:-0500
TZOFFSETTO:-0600
TZNAME:CST
DTSTART:20231105T070000
END:STANDARD
BEGIN:DAYLIGHT
TZOFFSETFROM:-0600
TZOFFSETTO:-0500
TZNAME:CDT
DTSTART:20240310T080000
END:DAYLIGHT
BEGIN:STANDARD
TZOFFSETFROM:-0500
TZOFFSETTO:-0600
TZNAME:CST
DTSTART:20241103T070000
END:STANDARD
BEGIN:DAYLIGHT
TZOFFSETFROM:-0600
TZOFFSETTO:-0500
TZNAME:CDT
DTSTART:20250309T080000
END:DAYLIGHT
BEGIN:STANDARD
TZOFFSETFROM:-0500
TZOFFSETTO:-0600
TZNAME:CST
DTSTART:20251102T070000
END:STANDARD
BEGIN:DAYLIGHT
TZOFFSETFROM:-0600
TZOFFSETTO:-0500
TZNAME:CDT
DTSTART:20260308T080000
END:DAYLIGHT
BEGIN:STANDARD
TZOFFSETFROM:-0500
TZOFFSETTO:-0600
TZNAME:CST
DTSTART:20261101T070000
END:STANDARD
END:VTIMEZONE
BEGIN:VEVENT
DTSTART;TZID=America/Chicago:20251030T150000
DTEND;TZID=America/Chicago:20251030T180000
DTSTAMP:20260420T151752
CREATED:20250708T214623Z
LAST-MODIFIED:20250911T153920Z
UID:10000702-1761836400-1761847200@sbdc.prodjex.dev
SUMMARY:Startup Boards 101
DESCRIPTION:If your early-stage company has just formed a board (or are about to)\, Startup Boards 101 is designed for you. \n\n\n\nThis series of three workshops (October 16\, 23 & 30) – attendance at all three sessions is required) helps entrepreneurs and potential board members understand the whys\, whats and hows of early-stage boards. \n\n\n\nThose selected will have moved beyond the startup stage\, will be seriously considering the benefits of an advisory or fiduciary board and will benefit from networking with potential board members. \n\n\n\n\n\n\n\nRegister by October 13\, 2025.
URL:https://sbdc.prodjex.dev/event/sub101/2025-10-30/
LOCATION:Missouri SBDC at UMKC\, 4747 Troost Ave\, Kansas City\, Missouri\, 64110\, United States
CATEGORIES:Scale,Start,Tech
ORGANIZER;CN="Missouri SBDC at UMKC":MAILTO:sbdc@umkc.edu
END:VEVENT
BEGIN:VEVENT
DTSTART;TZID=America/Chicago:20251023T150000
DTEND;TZID=America/Chicago:20251023T180000
DTSTAMP:20260420T151752
CREATED:20250708T214623Z
LAST-MODIFIED:20250911T153920Z
UID:10000701-1761231600-1761242400@sbdc.prodjex.dev
SUMMARY:Startup Boards 101
DESCRIPTION:If your early-stage company has just formed a board (or are about to)\, Startup Boards 101 is designed for you. \n\n\n\nThis series of three workshops (October 16\, 23 & 30) – attendance at all three sessions is required) helps entrepreneurs and potential board members understand the whys\, whats and hows of early-stage boards. \n\n\n\nThose selected will have moved beyond the startup stage\, will be seriously considering the benefits of an advisory or fiduciary board and will benefit from networking with potential board members. \n\n\n\n\n\n\n\nRegister by October 13\, 2025.
URL:https://sbdc.prodjex.dev/event/sub101/2025-10-23/
LOCATION:Missouri SBDC at UMKC\, 4747 Troost Ave\, Kansas City\, Missouri\, 64110\, United States
CATEGORIES:Scale,Start,Tech
ORGANIZER;CN="Missouri SBDC at UMKC":MAILTO:sbdc@umkc.edu
END:VEVENT
BEGIN:VEVENT
DTSTART;TZID=America/Chicago:20251016T150000
DTEND;TZID=America/Chicago:20251016T180000
DTSTAMP:20260420T151752
CREATED:20250708T214623Z
LAST-MODIFIED:20250911T153920Z
UID:10000700-1760626800-1760637600@sbdc.prodjex.dev
SUMMARY:Startup Boards 101
DESCRIPTION:If your early-stage company has just formed a board (or are about to)\, Startup Boards 101 is designed for you. \n\n\n\nThis series of three workshops (October 16\, 23 & 30) – attendance at all three sessions is required) helps entrepreneurs and potential board members understand the whys\, whats and hows of early-stage boards. \n\n\n\nThose selected will have moved beyond the startup stage\, will be seriously considering the benefits of an advisory or fiduciary board and will benefit from networking with potential board members. \n\n\n\n\n\n\n\nRegister by October 13\, 2025.
URL:https://sbdc.prodjex.dev/event/sub101/2025-10-16/
LOCATION:Missouri SBDC at UMKC\, 4747 Troost Ave\, Kansas City\, Missouri\, 64110\, United States
CATEGORIES:Scale,Start,Tech
ORGANIZER;CN="Missouri SBDC at UMKC":MAILTO:sbdc@umkc.edu
END:VEVENT
BEGIN:VEVENT
DTSTART;TZID=America/Chicago:20250627T123000
DTEND;TZID=America/Chicago:20250627T133000
DTSTAMP:20260420T151752
CREATED:20250618T022019Z
LAST-MODIFIED:20250618T022019Z
UID:10000659-1751027400-1751031000@sbdc.prodjex.dev
SUMMARY:Grow Your Business with AI-Powered Tools by Google
DESCRIPTION:Artificial Intelligence (AI) is a powerful technology that can help simplify business tasks and create new opportunities for small businesses and entrepreneurs – but knowing how to use it may seem out of reach. Developed with input from experts at Google\, this workshop will explain the basics of AI and how AI-powered tools by Google can help small businesses be more efficient\, enhance customer experiences\, and drive growth. \nJoin us in-person or virtually for this event!
URL:https://sbdc.prodjex.dev/event/gwg/
LOCATION:Missouri SBDC at UMKC\, 4747 Troost Ave\, Kansas City\, Missouri\, 64110\, United States
CATEGORIES:Start
ORGANIZER;CN="Missouri SBDC at UMKC":MAILTO:sbdc@umkc.edu
END:VEVENT
BEGIN:VEVENT
DTSTART;TZID=America/Chicago:20250219T080000
DTEND;TZID=America/Chicago:20250219T170000
DTSTAMP:20260420T151752
CREATED:20250219T051345Z
LAST-MODIFIED:20250311T201147Z
UID:10000533-1739952000-1739984400@sbdc.prodjex.dev
SUMMARY:CLOSED for weather...
DESCRIPTION:Per UMKC policy\, we’re working remotely on Tuesday\, February 18 as campus is closed for weather.
URL:https://sbdc.prodjex.dev/event/closed-for-weather-2/
LOCATION:Missouri SBDC at UMKC\, 4747 Troost Ave\, Kansas City\, Missouri\, 64110\, United States
CATEGORIES:Scale,Start,Tech
END:VEVENT
BEGIN:VEVENT
DTSTART;TZID=America/Chicago:20250218T080000
DTEND;TZID=America/Chicago:20250218T170000
DTSTAMP:20260420T151752
CREATED:20250218T222627Z
LAST-MODIFIED:20250311T201142Z
UID:10000532-1739865600-1739898000@sbdc.prodjex.dev
SUMMARY:CLOSED for weather...
DESCRIPTION:Per UMKC policy\, we’re working remotely on Tuesday\, February 18 as campus is closed for weather.
URL:https://sbdc.prodjex.dev/event/closed-for-weather/
LOCATION:Missouri SBDC at UMKC\, 4747 Troost Ave\, Kansas City\, Missouri\, 64110\, United States
CATEGORIES:Scale,Start,Tech
END:VEVENT
BEGIN:VEVENT
DTSTART;VALUE=DATE:20250120
DTEND;VALUE=DATE:20250121
DTSTAMP:20260420T151752
CREATED:20241113T015227Z
LAST-MODIFIED:20250311T201133Z
UID:10000509-1737331200-1737417599@sbdc.prodjex.dev
SUMMARY:CLOSED for Martin Luther King Jr Holiday
DESCRIPTION:
URL:https://sbdc.prodjex.dev/event/holiday-mlk/
LOCATION:Missouri SBDC at UMKC\, 4747 Troost Ave\, Kansas City\, Missouri\, 64110\, United States
END:VEVENT
BEGIN:VEVENT
DTSTART;TZID=America/Chicago:20250109T090000
DTEND;TZID=America/Chicago:20250109T103000
DTSTAMP:20260420T151752
CREATED:20250103T023617Z
LAST-MODIFIED:20250103T023617Z
UID:10000527-1736413200-1736418600@sbdc.prodjex.dev
SUMMARY:SBA Small Business Assistance Panel & Discussion
DESCRIPTION:Join Crispin Rea\, Kansas City 4th District at Large Councilman\, for a panel and discussion for small business owners. Panelists include: \n\nMindy Brissey – Regional Administrator\, SBA\nJill Hathaway – Director\, Missouri SBDC\nNia Richardson – Managing Director\, KC Bizcare\nJeff Rosenblatt\, Sr. Business Consultant\, APEX Accelerator
URL:https://sbdc.prodjex.dev/event/sba-panel/
LOCATION:Missouri SBDC at UMKC\, 4747 Troost Ave\, Kansas City\, Missouri\, 64110\, United States
CATEGORIES:Scale,Start,Tech
ORGANIZER;CN="Missouri SBDC at UMKC":MAILTO:sbdc@umkc.edu
END:VEVENT
BEGIN:VEVENT
DTSTART;TZID=America/Chicago:20240828T110000
DTEND;TZID=America/Chicago:20240828T130000
DTSTAMP:20260420T151752
CREATED:20240521T004557Z
LAST-MODIFIED:20240521T004557Z
UID:10000486-1724842800-1724850000@sbdc.prodjex.dev
SUMMARY:Franchise Panel Discussion & Networking
DESCRIPTION:Join us as an expert panel discusses the benefits of owning your own franchise as well as offers advice to support your goals of franchising your business. Lunch will be provided.\nMake your payment here.
URL:https://sbdc.prodjex.dev/event/franchise/
LOCATION:Missouri SBDC at UMKC\, 4747 Troost Ave\, Kansas City\, Missouri\, 64110\, United States
ORGANIZER;CN="Missouri SBDC at UMKC":MAILTO:sbdc@umkc.edu
END:VEVENT
BEGIN:VEVENT
DTSTART;TZID=America/Chicago:20240717T090000
DTEND;TZID=America/Chicago:20240717T120000
DTSTAMP:20260420T151752
CREATED:20240514T001906Z
LAST-MODIFIED:20240514T001906Z
UID:10000485-1721206800-1721217600@sbdc.prodjex.dev
SUMMARY:High Performance Marketing Bootcamp
DESCRIPTION:After completing this workshop\, you will be able to create smarter\, sharper\, and more effective marketing for your business. \nMany companies are doing “activity” in lieu of purposeful marketing. Marketing that creates demand\, drives the business model\, and effectively communicates the value proposition is High Performance Marketing. \nWhat you will learn:\n• The Secret of Marketing\n• How to Connect the What\, Why\, and How\n• How to Align your Customer Target\, Value Proposition\, Brand Promise and Reason for Being to your Customer’s Reason for Need\n• How to Drive More Customers\, Spending More\, More Often\n• How to Create Real Demand\n• How to Answer the Question: Why Should I Buy From You?\n• How to Create Marketing that is Relevant\, Believable\, Compelling\, and Persuasive \nMake your payment here.
URL:https://sbdc.prodjex.dev/event/marketing-bootcamp/
LOCATION:Missouri SBDC at UMKC\, 4747 Troost Ave\, Kansas City\, Missouri\, 64110\, United States
ORGANIZER;CN="Missouri SBDC at UMKC":MAILTO:sbdc@umkc.edu
END:VEVENT
BEGIN:VEVENT
DTSTART;TZID=America/Chicago:20230608T163000
DTEND;TZID=America/Chicago:20230608T190000
DTSTAMP:20260420T151752
CREATED:20220518T221257Z
LAST-MODIFIED:20220518T221257Z
UID:10000420-1686241800-1686250800@sbdc.prodjex.dev
SUMMARY:Pitching to Investors
DESCRIPTION:Learn about what investors need to know and want to see before making an investment in a start-up. \n\n\n\nPresented by Michele Weigand\, Managing Partner of Focused Perspective with over 27 years of Finance and Business Development experience. Michele was the former Chief Investment Officer for KTEC and managed investments for GE Mortgage and GE Reinsurance. \n\n\n\nThis session will be in person at 4747 Troost Ave\, KCMO 64110. \n\n\n\n\nPay Here
URL:https://sbdc.prodjex.dev/event/pitching-to-investors-jun-2023/
LOCATION:Missouri SBDC at UMKC\, 4747 Troost Ave\, Kansas City\, Missouri\, 64110\, United States
ORGANIZER;CN="Michelle Kretsinger":MAILTO:elevationlab@umkc.edu
END:VEVENT
END:VCALENDAR