BEGIN:VCALENDAR
VERSION:2.0
PRODID:-//Missouri SBDC - ECPv6.15.12.2//NONSGML v1.0//EN
CALSCALE:GREGORIAN
METHOD:PUBLISH
X-ORIGINAL-URL:https://sbdc.prodjex.dev
X-WR-CALDESC:Events for Missouri SBDC
REFRESH-INTERVAL;VALUE=DURATION:PT1H
X-Robots-Tag:noindex
X-PUBLISHED-TTL:PT1H
BEGIN:VTIMEZONE
TZID:America/Chicago
BEGIN:DAYLIGHT
TZOFFSETFROM:-0600
TZOFFSETTO:-0500
TZNAME:CDT
DTSTART:20230312T080000
END:DAYLIGHT
BEGIN:STANDARD
TZOFFSETFROM:-0500
TZOFFSETTO:-0600
TZNAME:CST
DTSTART:20231105T070000
END:STANDARD
BEGIN:DAYLIGHT
TZOFFSETFROM:-0600
TZOFFSETTO:-0500
TZNAME:CDT
DTSTART:20240310T080000
END:DAYLIGHT
BEGIN:STANDARD
TZOFFSETFROM:-0500
TZOFFSETTO:-0600
TZNAME:CST
DTSTART:20241103T070000
END:STANDARD
BEGIN:DAYLIGHT
TZOFFSETFROM:-0600
TZOFFSETTO:-0500
TZNAME:CDT
DTSTART:20250309T080000
END:DAYLIGHT
BEGIN:STANDARD
TZOFFSETFROM:-0500
TZOFFSETTO:-0600
TZNAME:CST
DTSTART:20251102T070000
END:STANDARD
END:VTIMEZONE
BEGIN:VEVENT
DTSTART;TZID=America/Chicago:20240801T150000
DTEND;TZID=America/Chicago:20240801T180000
DTSTAMP:20260420T174940
CREATED:20240404T191346Z
LAST-MODIFIED:20240404T191346Z
UID:10000480-1722524400-1722535200@sbdc.prodjex.dev
SUMMARY:Startup Boards 101
DESCRIPTION:If your early-stage company has just formed a board (or are about to)\, Startup Boards 101 is designed for you. \n\n\n\nThis series of three workshops (August 1\, 8\, 15\, 2024 – attendance at all three sessions is required) helps entrepreneurs and potential board members understand the whys\, whats and hows of early-stage boards. \n\n\n\nThose selected will have moved beyond the startup stage\, will be seriously considering the benefits of an advisory or fiduciary board and will benefit from networking with potential board members. \n\n\n\nSpots are limited . Complete the application for consideration. \n\n\n\nLinks for payment will be send after acceptance. \n\n\n\nIn person – Kauffman Conference Center \n\n\n\nApplications are due by July 26\, 2024.
URL:https://sbdc.prodjex.dev/event/startup-boards-101-2/
LOCATION:Kauffman Foundation\, 4801 Rockhill Rd\, Kansas City\, Missouri\, 64110\, United States
END:VEVENT
END:VCALENDAR