BEGIN:VCALENDAR
VERSION:2.0
PRODID:-//Missouri SBDC - ECPv6.15.12.2//NONSGML v1.0//EN
CALSCALE:GREGORIAN
METHOD:PUBLISH
X-WR-CALNAME:Missouri SBDC
X-ORIGINAL-URL:https://sbdc.prodjex.dev
X-WR-CALDESC:Events for Missouri SBDC
REFRESH-INTERVAL;VALUE=DURATION:PT1H
X-Robots-Tag:noindex
X-PUBLISHED-TTL:PT1H
BEGIN:VTIMEZONE
TZID:America/Chicago
BEGIN:DAYLIGHT
TZOFFSETFROM:-0600
TZOFFSETTO:-0500
TZNAME:CDT
DTSTART:20220313T080000
END:DAYLIGHT
BEGIN:STANDARD
TZOFFSETFROM:-0500
TZOFFSETTO:-0600
TZNAME:CST
DTSTART:20221106T070000
END:STANDARD
BEGIN:DAYLIGHT
TZOFFSETFROM:-0600
TZOFFSETTO:-0500
TZNAME:CDT
DTSTART:20230312T080000
END:DAYLIGHT
BEGIN:STANDARD
TZOFFSETFROM:-0500
TZOFFSETTO:-0600
TZNAME:CST
DTSTART:20231105T070000
END:STANDARD
BEGIN:DAYLIGHT
TZOFFSETFROM:-0600
TZOFFSETTO:-0500
TZNAME:CDT
DTSTART:20240310T080000
END:DAYLIGHT
BEGIN:STANDARD
TZOFFSETFROM:-0500
TZOFFSETTO:-0600
TZNAME:CST
DTSTART:20241103T070000
END:STANDARD
BEGIN:DAYLIGHT
TZOFFSETFROM:-0600
TZOFFSETTO:-0500
TZNAME:CDT
DTSTART:20250309T080000
END:DAYLIGHT
BEGIN:STANDARD
TZOFFSETFROM:-0500
TZOFFSETTO:-0600
TZNAME:CST
DTSTART:20251102T070000
END:STANDARD
END:VTIMEZONE
BEGIN:VEVENT
DTSTART;TZID=America/Chicago:20240321T083000
DTEND;TZID=America/Chicago:20240321T093000
DTSTAMP:20260420T173958
CREATED:20240117T212938Z
LAST-MODIFIED:20240117T212938Z
UID:10000476-1711009800-1711013400@sbdc.prodjex.dev
SUMMARY:Tax Smart Insights: Maximize Your Business Setup for Optimal Tax Benefits
DESCRIPTION:Join us as the Husch Blackwell attorneys share their recommendations on business setup: \n\n\n\nHow your company is set up matters! LLC\, LLC filing as S Corp\, C Corp?\n \nWhich entity type is right for your business and what are the tax implications of each?\n\n\n\nCoffee and refreshments will be served \n\n\n\n\nRegister here
URL:https://sbdc.prodjex.dev/event/tax-smart-insights/
LOCATION:Husch Blackwell\, 4801 Main St.\, Kansas City\, Missouri\, 64112\, United States
ORGANIZER;CN="Missouri SBDC at UMKC":MAILTO:sbdc@umkc.edu
END:VEVENT
BEGIN:VEVENT
DTSTART;TZID=America/Chicago:20231128T083000
DTEND;TZID=America/Chicago:20231128T091500
DTSTAMP:20260420T173958
CREATED:20230512T184703Z
LAST-MODIFIED:20230512T184703Z
UID:10000446-1701160200-1701162900@sbdc.prodjex.dev
SUMMARY:You're running out of time...Exiting your business
DESCRIPTION:Join us as the Husch Blackwell attorneys share their recommendations on exiting your business: \n\n\n\nBest business structure to be acquired \n\n\n\nSmall business pre-qualifications for purchase/sale \n\n\n\nConsider Tax Implications \n\n\n\nTypes of Succession Plans \n\n\n\nProtect Stakeholder Interests \n\n\n\nCoffee and refreshments will be served \n\n\n\n\nRegister here
URL:https://sbdc.prodjex.dev/event/youre-running-out-of-time/
LOCATION:Husch Blackwell\, 4801 Main St.\, Kansas City\, Missouri\, 64112\, United States
ORGANIZER;CN="Missouri SBDC at UMKC":MAILTO:sbdc@umkc.edu
END:VEVENT
BEGIN:VEVENT
DTSTART;TZID=America/Chicago:20230822T083000
DTEND;TZID=America/Chicago:20230822T091500
DTSTAMP:20260420T173958
CREATED:20230512T183608Z
LAST-MODIFIED:20230512T183608Z
UID:10000445-1692693000-1692695700@sbdc.prodjex.dev
SUMMARY:Unclear construction contracts are costing you money!
DESCRIPTION:Join Husch Blackwell Attorneys specializing in Construction Businesses to answer your questions about: \n\n\n\nScope of Work \n\n\n\nPayment Terms \n\n\n\nChange Orders Delays \n\n\n\nExtensions \n\n\n\nTermination \n\n\n\nDefault Dispute \n\n\n\nResolutions \n\n\n\nCoffee and light refreshments will be available. \nRegister here
URL:https://sbdc.prodjex.dev/event/unclear-construction-contracts-are-costing-you-money/
LOCATION:Husch Blackwell\, 4801 Main St.\, Kansas City\, Missouri\, 64112\, United States
ORGANIZER;CN="Missouri SBDC at UMKC":MAILTO:sbdc@umkc.edu
END:VEVENT
BEGIN:VEVENT
DTSTART;TZID=America/Chicago:20230606T083000
DTEND;TZID=America/Chicago:20230606T091500
DTSTAMP:20260420T173958
CREATED:20230512T181800Z
LAST-MODIFIED:20230512T181800Z
UID:10000444-1686040200-1686042900@sbdc.prodjex.dev
SUMMARY:Here's what you don't know about HR that could harm your business
DESCRIPTION:Join Husch Blackwell Employment Attorneys to proactively learn about:  \n\n\n\nEmployee Handbooks  \n\n\n\nHiring\, Retaining\, Firing  \n\n\n\nEmployee Classification  \n\n\n\nWage and Hour Laws  \n\n\n\nPerformance Management  \n\n\n\nHR Compliance  \n\n\n\nCoffee and light refreshments will be available. \n\n\n\n\nRegister here
URL:https://sbdc.prodjex.dev/event/heres-what-you-dont-know-about-hr-that-could-harm-your-business/
LOCATION:Husch Blackwell\, 4801 Main St.\, Kansas City\, Missouri\, 64112\, United States
END:VEVENT
END:VCALENDAR