BEGIN:VCALENDAR
VERSION:2.0
PRODID:-//Missouri SBDC - ECPv6.15.12.2//NONSGML v1.0//EN
CALSCALE:GREGORIAN
METHOD:PUBLISH
X-WR-CALNAME:Missouri SBDC
X-ORIGINAL-URL:https://sbdc.prodjex.dev
X-WR-CALDESC:Events for Missouri SBDC
REFRESH-INTERVAL;VALUE=DURATION:PT1H
X-Robots-Tag:noindex
X-PUBLISHED-TTL:PT1H
BEGIN:VTIMEZONE
TZID:America/Chicago
BEGIN:DAYLIGHT
TZOFFSETFROM:-0600
TZOFFSETTO:-0500
TZNAME:CDT
DTSTART:20250309T080000
END:DAYLIGHT
BEGIN:STANDARD
TZOFFSETFROM:-0500
TZOFFSETTO:-0600
TZNAME:CST
DTSTART:20251102T070000
END:STANDARD
BEGIN:DAYLIGHT
TZOFFSETFROM:-0600
TZOFFSETTO:-0500
TZNAME:CDT
DTSTART:20260308T080000
END:DAYLIGHT
BEGIN:STANDARD
TZOFFSETFROM:-0500
TZOFFSETTO:-0600
TZNAME:CST
DTSTART:20261101T070000
END:STANDARD
BEGIN:DAYLIGHT
TZOFFSETFROM:-0600
TZOFFSETTO:-0500
TZNAME:CDT
DTSTART:20270314T080000
END:DAYLIGHT
BEGIN:STANDARD
TZOFFSETFROM:-0500
TZOFFSETTO:-0600
TZNAME:CST
DTSTART:20271107T070000
END:STANDARD
BEGIN:DAYLIGHT
TZOFFSETFROM:-0600
TZOFFSETTO:-0500
TZNAME:CDT
DTSTART:20280312T080000
END:DAYLIGHT
BEGIN:STANDARD
TZOFFSETFROM:-0500
TZOFFSETTO:-0600
TZNAME:CST
DTSTART:20281105T070000
END:STANDARD
END:VTIMEZONE
BEGIN:VEVENT
DTSTART;VALUE=DATE:20260525
DTEND;VALUE=DATE:20260526
DTSTAMP:20260420T095409
CREATED:20251222T190200Z
LAST-MODIFIED:20251222T190200Z
UID:10001029-1779667200-1779753599@sbdc.prodjex.dev
SUMMARY:CLOSED - UMKC HOLIDAY
DESCRIPTION:Our office is closed per UMKC policy.
URL:https://sbdc.prodjex.dev/event/closed-umkc-holiday-2/
LOCATION:4747 Troost Ave\, KCMO 64110
END:VEVENT
BEGIN:VEVENT
DTSTART;VALUE=DATE:20260619
DTEND;VALUE=DATE:20260620
DTSTAMP:20260420T095409
CREATED:20251222T190921Z
LAST-MODIFIED:20251222T190921Z
UID:10001030-1781827200-1781913599@sbdc.prodjex.dev
SUMMARY:CLOSED - UMKC HOLIDAY
DESCRIPTION:Our office is closed per UMKC policy.
URL:https://sbdc.prodjex.dev/event/closed-umkc-holiday-3/
LOCATION:4747 Troost Ave\, KCMO 64110
END:VEVENT
BEGIN:VEVENT
DTSTART;VALUE=DATE:20260703
DTEND;VALUE=DATE:20260704
DTSTAMP:20260420T095409
CREATED:20251222T191056Z
LAST-MODIFIED:20251222T191056Z
UID:10001031-1783036800-1783123199@sbdc.prodjex.dev
SUMMARY:CLOSED - UMKC HOLIDAY
DESCRIPTION:Our office is closed per UMKC policy.
URL:https://sbdc.prodjex.dev/event/closed-umkc-holiday-4/
LOCATION:4747 Troost Ave\, KCMO 64110
END:VEVENT
BEGIN:VEVENT
DTSTART;VALUE=DATE:20260907
DTEND;VALUE=DATE:20260908
DTSTAMP:20260420T095409
CREATED:20251222T191213Z
LAST-MODIFIED:20251222T191213Z
UID:10001032-1788739200-1788825599@sbdc.prodjex.dev
SUMMARY:CLOSED - UMKC HOLIDAY
DESCRIPTION:Our office is closed per UMKC policy.
URL:https://sbdc.prodjex.dev/event/closed-umkc-holiday-5/
LOCATION:4747 Troost Ave\, KCMO 64110
END:VEVENT
BEGIN:VEVENT
DTSTART;VALUE=DATE:20261111
DTEND;VALUE=DATE:20261112
DTSTAMP:20260420T095409
CREATED:20251222T191332Z
LAST-MODIFIED:20251222T191332Z
UID:10001033-1794355200-1794441599@sbdc.prodjex.dev
SUMMARY:CLOSED - UMKC HOLIDAY
DESCRIPTION:Our office is closed per UMKC policy.
URL:https://sbdc.prodjex.dev/event/closed-umkc-holiday-6/
LOCATION:4747 Troost Ave\, KCMO 64110
END:VEVENT
BEGIN:VEVENT
DTSTART;VALUE=DATE:20261126
DTEND;VALUE=DATE:20261128
DTSTAMP:20260420T095409
CREATED:20251222T191453Z
LAST-MODIFIED:20251222T191453Z
UID:10001034-1795651200-1795823999@sbdc.prodjex.dev
SUMMARY:CLOSED - UMKC HOLIDAY
DESCRIPTION:Our office is closed per UMKC policy.
URL:https://sbdc.prodjex.dev/event/closed-umkc-holiday-7/
LOCATION:4747 Troost Ave\, KCMO 64110
END:VEVENT
BEGIN:VEVENT
DTSTART;VALUE=DATE:20261225
DTEND;VALUE=DATE:20270102
DTSTAMP:20260420T095409
CREATED:20251222T191631Z
LAST-MODIFIED:20251222T191631Z
UID:10001035-1798156800-1798847999@sbdc.prodjex.dev
SUMMARY:CLOSED - UMKC HOLIDAY
DESCRIPTION:Our office is closed per UMKC policy.
URL:https://sbdc.prodjex.dev/event/closed-umkc-holiday-8/
LOCATION:4747 Troost Ave\, KCMO 64110
END:VEVENT
END:VCALENDAR