BEGIN:VCALENDAR
VERSION:2.0
PRODID:-//Missouri SBDC - ECPv6.15.12.2//NONSGML v1.0//EN
CALSCALE:GREGORIAN
METHOD:PUBLISH
X-WR-CALNAME:Missouri SBDC
X-ORIGINAL-URL:https://sbdc.prodjex.dev
X-WR-CALDESC:Events for Missouri SBDC
REFRESH-INTERVAL;VALUE=DURATION:PT1H
X-Robots-Tag:noindex
X-PUBLISHED-TTL:PT1H
BEGIN:VTIMEZONE
TZID:America/Chicago
BEGIN:DAYLIGHT
TZOFFSETFROM:-0600
TZOFFSETTO:-0500
TZNAME:CDT
DTSTART:20250309T080000
END:DAYLIGHT
BEGIN:STANDARD
TZOFFSETFROM:-0500
TZOFFSETTO:-0600
TZNAME:CST
DTSTART:20251102T070000
END:STANDARD
BEGIN:DAYLIGHT
TZOFFSETFROM:-0600
TZOFFSETTO:-0500
TZNAME:CDT
DTSTART:20260308T080000
END:DAYLIGHT
BEGIN:STANDARD
TZOFFSETFROM:-0500
TZOFFSETTO:-0600
TZNAME:CST
DTSTART:20261101T070000
END:STANDARD
BEGIN:DAYLIGHT
TZOFFSETFROM:-0600
TZOFFSETTO:-0500
TZNAME:CDT
DTSTART:20270314T080000
END:DAYLIGHT
BEGIN:STANDARD
TZOFFSETFROM:-0500
TZOFFSETTO:-0600
TZNAME:CST
DTSTART:20271107T070000
END:STANDARD
END:VTIMEZONE
BEGIN:VEVENT
DTSTART;TZID=America/Chicago:20260804T090000
DTEND;TZID=America/Chicago:20260804T120000
DTSTAMP:20260420T121632
CREATED:20251222T184610Z
LAST-MODIFIED:20251222T184610Z
UID:10000997-1785834000-1785844800@sbdc.prodjex.dev
SUMMARY:Value Builder Business Owner Forum - Group 2
DESCRIPTION:The Value Builder System helps business owners understand what drives the value of their company and how to increase it over time. Offered through the Missouri Small Business Development Center\, this confidential and comprehensive assessment gives you insight into your business from a buyer’s perspective. \nThe process begins with the Value Builder Score questionnaire\, which takes about 15 minutes to complete. Once finished\, you’ll receive an estimated business value\, an overall score out of 100\, and detailed results across eight key drivers of value. These drivers highlight specific strengths and areas for improvement that directly impact how attractive and valuable your business is in the marketplace. \nThe Value Builder System is useful whether you’re planning an exit or simply want to ensure you’re building a strong asset for the future. Improving your score can lead to real financial impact. Research across more than 70\,000 businesses shows that companies with a Value Builder Score of 80 or higher sell for a 71% premium compared to average-scoring businesses. \nAfter completing the assessment\, you can choose how to engage with the system based on your needs and preferred level of support:\nGroup Program (6–8 members): $1\,495/year\n1:1 Program: $4\,495/year \nIf you’re interested in joining a Value Builder cohort\, send us a message!
URL:https://sbdc.prodjex.dev/event/value-builder-business-owner-forum-group-2/2026-08-04/
LOCATION:4747 Troost Ave\, KCMO 64110
CATEGORIES:Exit,Scale
END:VEVENT
BEGIN:VEVENT
DTSTART;TZID=America/Chicago:20260804T150000
DTEND;TZID=America/Chicago:20260804T180000
DTSTAMP:20260420T121632
CREATED:20251222T172613Z
LAST-MODIFIED:20251222T172744Z
UID:10000834-1785855600-1785866400@sbdc.prodjex.dev
SUMMARY:StartSmart: Your Business Foundations
DESCRIPTION:StartSmart: Your Business Foundations is designed for entrepreneurs who are ready to turn an idea into a real business—and want the right support along the way. This dynamic\, interactive course focuses on helping you build a solid foundation before moving forward. \nThroughout the program\, you’ll learn how to validate your business idea by confirming there’s a market for your product or service. You’ll practice customer discovery and market research\, develop a clear elevator pitch\, and create customer personas to better understand who you’re serving. The course also covers important legal structures and considerations so you can make informed decisions early. \nIn addition to strategy and planning\, StartSmart introduces essential business fundamentals such as accounting\, bookkeeping\, pricing\, sales\, and basic HR topics like hiring and managing contractors. You’ll explore how these pieces fit together to support long-term profitability and growth. \nThe course includes access to the Proof to Profit customer discovery curriculum\, a comprehensive binder of worksheets and resources\, and group learning with guided discussions. Participants also receive one-on-one coaching with an SBDC business coach and access to the LivePlan toolkit to build a business plan and three years of sales projections. Additional benefits include networking opportunities and access to four single-session classes that support businesses at any stage. \nBy the end of StartSmart\, you’ll leave with practical tools\, greater confidence\, and a clear roadmap to move from concept to launch. \nScholarships may be available\, apply here!
URL:https://sbdc.prodjex.dev/event/startsmart-your-business-foundations-5/2026-08-04/
LOCATION:4747 Troost Ave\, KCMO 64110
CATEGORIES:Start
END:VEVENT
BEGIN:VEVENT
DTSTART;TZID=America/Chicago:20260804T150000
DTEND;TZID=America/Chicago:20260804T180000
DTSTAMP:20260420T121632
CREATED:20251222T174311Z
LAST-MODIFIED:20251222T174311Z
UID:10000840-1785855600-1785866400@sbdc.prodjex.dev
SUMMARY:Content Creation with AI
DESCRIPTION:AI is transforming how we brainstorm\, write\, and design—but using it well takes strategy. In this hands-on masterclass\, you’ll learn how to use tools like ChatGPT\, Canva\, and Descript to streamline your creative process without losing your authentic voice. \nLed by Maliha Khan\, Founder & CEO of Khanect the Dots LLC and Khancepts Studio\, this session blends strategic insight with practical exercises designed to help you:\nGenerate fresh\, brand-aligned content ideas on demand\nCreate marketing visuals and videos faster using AI tools\nWrite stronger\, more human-sounding copy with AI assistance\nBuild a repeatable content workflow you can actually stick to \nWhether you’re a small business owner\, marketing professional\, or content creator\, you’ll leave with clear takeaways\, actionable templates\, and the confidence to use AI with intention—not imitation. \nScholarships may be available\, apply here!
URL:https://sbdc.prodjex.dev/event/content-creation-with-ai/
LOCATION:4747 Troost Ave\, KCMO 64110
CATEGORIES:Growth,Scale,Start,Tech
END:VEVENT
BEGIN:VEVENT
DTSTART;TZID=America/Chicago:20260806T083000
DTEND;TZID=America/Chicago:20260806T120000
DTSTAMP:20260420T121632
CREATED:20251222T182349Z
LAST-MODIFIED:20251222T182349Z
UID:10000940-1786005000-1786017600@sbdc.prodjex.dev
SUMMARY:ScaleUp! Kansas City
DESCRIPTION:SCALEUP! Kansas City is designed for established businesses that are ready to pursue significant growth and scale with intention. This intensive series of classes supports companies that have the potential to reach well beyond $1 million in revenue—or those already there who want to keep growing. \nThe program uses a cohort-based model that brings together business owners who are committed to growth and open to learning from both experts and peers. Over 16 structured sessions\, participants focus on strengthening leadership\, improving systems\, refining strategy\, and addressing the real challenges that come with scaling a business. The experience emphasizes practical application\, honest discussion\, and accountability. \nSCALEUP! is a selective opportunity and requires a strong commitment. Participants must meet eligibility requirements and be able to attend all sessions to fully benefit from the program. \nProgram qualifications include: \n\n\nAt least $250\,000 in revenue in the past year \n\n\nAt least 2 employees\, with the owner working full time in or on the business \n\n\nAt least 2 years in business \n\n\nAbility to attend all 16 sessions on Thursdays from 8:30 a.m. to Noon (approximately) \n\n\nCohort 16 begins on August 6\, 2026\, and concludes on November 19\, 2026. Applications are due by Friday\, July 17\, 2026\, with decisions communicated by 5:00 p.m. on Monday\, July 20\, 2026. \nApply here!
URL:https://sbdc.prodjex.dev/event/scaleup-kansas-city-3/2026-08-06/
LOCATION:Multiple locations within the KC Metro
CATEGORIES:Scale
END:VEVENT
BEGIN:VEVENT
DTSTART;TZID=America/Chicago:20260811T150000
DTEND;TZID=America/Chicago:20260811T180000
DTSTAMP:20260420T121632
CREATED:20251222T172613Z
LAST-MODIFIED:20251222T172744Z
UID:10000835-1786460400-1786471200@sbdc.prodjex.dev
SUMMARY:StartSmart: Your Business Foundations
DESCRIPTION:StartSmart: Your Business Foundations is designed for entrepreneurs who are ready to turn an idea into a real business—and want the right support along the way. This dynamic\, interactive course focuses on helping you build a solid foundation before moving forward. \nThroughout the program\, you’ll learn how to validate your business idea by confirming there’s a market for your product or service. You’ll practice customer discovery and market research\, develop a clear elevator pitch\, and create customer personas to better understand who you’re serving. The course also covers important legal structures and considerations so you can make informed decisions early. \nIn addition to strategy and planning\, StartSmart introduces essential business fundamentals such as accounting\, bookkeeping\, pricing\, sales\, and basic HR topics like hiring and managing contractors. You’ll explore how these pieces fit together to support long-term profitability and growth. \nThe course includes access to the Proof to Profit customer discovery curriculum\, a comprehensive binder of worksheets and resources\, and group learning with guided discussions. Participants also receive one-on-one coaching with an SBDC business coach and access to the LivePlan toolkit to build a business plan and three years of sales projections. Additional benefits include networking opportunities and access to four single-session classes that support businesses at any stage. \nBy the end of StartSmart\, you’ll leave with practical tools\, greater confidence\, and a clear roadmap to move from concept to launch. \nScholarships may be available\, apply here!
URL:https://sbdc.prodjex.dev/event/startsmart-your-business-foundations-5/2026-08-11/
LOCATION:4747 Troost Ave\, KCMO 64110
CATEGORIES:Start
END:VEVENT
BEGIN:VEVENT
DTSTART;TZID=America/Chicago:20260813T083000
DTEND;TZID=America/Chicago:20260813T120000
DTSTAMP:20260420T121632
CREATED:20251222T182349Z
LAST-MODIFIED:20251222T182349Z
UID:10000941-1786609800-1786622400@sbdc.prodjex.dev
SUMMARY:ScaleUp! Kansas City
DESCRIPTION:SCALEUP! Kansas City is designed for established businesses that are ready to pursue significant growth and scale with intention. This intensive series of classes supports companies that have the potential to reach well beyond $1 million in revenue—or those already there who want to keep growing. \nThe program uses a cohort-based model that brings together business owners who are committed to growth and open to learning from both experts and peers. Over 16 structured sessions\, participants focus on strengthening leadership\, improving systems\, refining strategy\, and addressing the real challenges that come with scaling a business. The experience emphasizes practical application\, honest discussion\, and accountability. \nSCALEUP! is a selective opportunity and requires a strong commitment. Participants must meet eligibility requirements and be able to attend all sessions to fully benefit from the program. \nProgram qualifications include: \n\n\nAt least $250\,000 in revenue in the past year \n\n\nAt least 2 employees\, with the owner working full time in or on the business \n\n\nAt least 2 years in business \n\n\nAbility to attend all 16 sessions on Thursdays from 8:30 a.m. to Noon (approximately) \n\n\nCohort 16 begins on August 6\, 2026\, and concludes on November 19\, 2026. Applications are due by Friday\, July 17\, 2026\, with decisions communicated by 5:00 p.m. on Monday\, July 20\, 2026. \nApply here!
URL:https://sbdc.prodjex.dev/event/scaleup-kansas-city-3/2026-08-13/
LOCATION:Multiple locations within the KC Metro
CATEGORIES:Scale
END:VEVENT
BEGIN:VEVENT
DTSTART;TZID=America/Chicago:20260814T090000
DTEND;TZID=America/Chicago:20260814T120000
DTSTAMP:20260420T121632
CREATED:20251222T184718Z
LAST-MODIFIED:20251222T184718Z
UID:10001021-1786698000-1786708800@sbdc.prodjex.dev
SUMMARY:Value Builder Business Owner Forum - Group 3
DESCRIPTION:The Value Builder System helps business owners understand what drives the value of their company and how to increase it over time. Offered through the Missouri Small Business Development Center\, this confidential and comprehensive assessment gives you insight into your business from a buyer’s perspective. \nThe process begins with the Value Builder Score questionnaire\, which takes about 15 minutes to complete. Once finished\, you’ll receive an estimated business value\, an overall score out of 100\, and detailed results across eight key drivers of value. These drivers highlight specific strengths and areas for improvement that directly impact how attractive and valuable your business is in the marketplace. \nThe Value Builder System is useful whether you’re planning an exit or simply want to ensure you’re building a strong asset for the future. Improving your score can lead to real financial impact. Research across more than 70\,000 businesses shows that companies with a Value Builder Score of 80 or higher sell for a 71% premium compared to average-scoring businesses. \nAfter completing the assessment\, you can choose how to engage with the system based on your needs and preferred level of support:\nGroup Program (6–8 members): $1\,495/year\n1:1 Program: $4\,495/year \nIf you’re interested in joining a Value Builder cohort\, send us a message!
URL:https://sbdc.prodjex.dev/event/value-builder-business-owner-forum-group-3/2026-08-14/
LOCATION:4747 Troost Ave\, KCMO 64110
CATEGORIES:Exit,Scale
END:VEVENT
BEGIN:VEVENT
DTSTART;TZID=America/Chicago:20260819T090000
DTEND;TZID=America/Chicago:20260819T100000
DTSTAMP:20260420T121632
CREATED:20251222T200145Z
LAST-MODIFIED:20251222T200145Z
UID:10001044-1787130000-1787133600@sbdc.prodjex.dev
SUMMARY:Capabilities Statements for Government Contracts
DESCRIPTION:This course is designed to help small businesses and entrepreneurs understand the critical role of a Capability Statement in securing government contracts. Participants will learn the key elements needed to create a compelling and professional Capability Statement that effectively communicates their business’s core competencies\, differentiators\, and past performance to government agencies. Through real-world examples\, the course will walk attendees through best practices for formatting\, saving\, and tailoring their statements to different agencies and contracting opportunities. Additionally\, participants will gain insights into the registration process\, certifications\, and contact information that enhance credibility and responsiveness.
URL:https://sbdc.prodjex.dev/event/capabilities-statements-for-government-contracts/2026-08-19/
LOCATION:Zoom
END:VEVENT
BEGIN:VEVENT
DTSTART;TZID=America/Chicago:20260819T150000
DTEND;TZID=America/Chicago:20260819T180000
DTSTAMP:20260420T121632
CREATED:20251222T174632Z
LAST-MODIFIED:20251222T174632Z
UID:10000850-1787151600-1787162400@sbdc.prodjex.dev
SUMMARY:Tech Startup Mastery
DESCRIPTION:Tech Startup Mastery is a nine-session program designed for entrepreneurs developing technology or science-based businesses who want guidance\, structure\, and connection as they grow. With Kansas City’s entrepreneurial ecosystem moving quickly\, this course helps founders navigate critical decisions with greater confidence. \nThe program was designed by entrepreneurs who understand the challenges of building innovative companies. Participants explore essential topics such as identifying funding sources and investors\, understanding pre- and post-money valuation\, pitching to investors\, managing financial projections\, and navigating due diligence. Additional focus areas include deal sheets\, legal structures\, and assessing business feasibility and market demand. \nSessions are led by experienced business coaches and successful entrepreneurs who combine instruction with hands-on guidance and small-group discussions. Participants learn not only from facilitators\, but also from one another\, creating a collaborative learning environment and a strong peer network. \nBy the end of Tech Startup Mastery\, participants gain practical tools\, clearer direction\, and valuable connections—helping turn a great idea into a viable\, market-ready innovation. \nScholarships may be available\, apply here!
URL:https://sbdc.prodjex.dev/event/tech-startup-mastery/2026-08-19/
LOCATION:4747 Troost Ave\, KCMO 64110
CATEGORIES:Tech
END:VEVENT
BEGIN:VEVENT
DTSTART;TZID=America/Chicago:20260820T083000
DTEND;TZID=America/Chicago:20260820T120000
DTSTAMP:20260420T121632
CREATED:20251222T182349Z
LAST-MODIFIED:20251222T182349Z
UID:10000942-1787214600-1787227200@sbdc.prodjex.dev
SUMMARY:ScaleUp! Kansas City
DESCRIPTION:SCALEUP! Kansas City is designed for established businesses that are ready to pursue significant growth and scale with intention. This intensive series of classes supports companies that have the potential to reach well beyond $1 million in revenue—or those already there who want to keep growing. \nThe program uses a cohort-based model that brings together business owners who are committed to growth and open to learning from both experts and peers. Over 16 structured sessions\, participants focus on strengthening leadership\, improving systems\, refining strategy\, and addressing the real challenges that come with scaling a business. The experience emphasizes practical application\, honest discussion\, and accountability. \nSCALEUP! is a selective opportunity and requires a strong commitment. Participants must meet eligibility requirements and be able to attend all sessions to fully benefit from the program. \nProgram qualifications include: \n\n\nAt least $250\,000 in revenue in the past year \n\n\nAt least 2 employees\, with the owner working full time in or on the business \n\n\nAt least 2 years in business \n\n\nAbility to attend all 16 sessions on Thursdays from 8:30 a.m. to Noon (approximately) \n\n\nCohort 16 begins on August 6\, 2026\, and concludes on November 19\, 2026. Applications are due by Friday\, July 17\, 2026\, with decisions communicated by 5:00 p.m. on Monday\, July 20\, 2026. \nApply here!
URL:https://sbdc.prodjex.dev/event/scaleup-kansas-city-3/2026-08-20/
LOCATION:Multiple locations within the KC Metro
CATEGORIES:Scale
END:VEVENT
BEGIN:VEVENT
DTSTART;TZID=America/Chicago:20260820T090000
DTEND;TZID=America/Chicago:20260820T120000
DTSTAMP:20260420T121632
CREATED:20251222T183927Z
LAST-MODIFIED:20251222T184337Z
UID:10000974-1787216400-1787227200@sbdc.prodjex.dev
SUMMARY:Value Builder Business Owner Forum - Group 1
DESCRIPTION:The Value Builder System helps business owners understand what drives the value of their company and how to increase it over time. Offered through the Missouri Small Business Development Center\, this confidential and comprehensive assessment gives you insight into your business from a buyer’s perspective. \nThe process begins with the Value Builder Score questionnaire\, which takes about 15 minutes to complete. Once finished\, you’ll receive an estimated business value\, an overall score out of 100\, and detailed results across eight key drivers of value. These drivers highlight specific strengths and areas for improvement that directly impact how attractive and valuable your business is in the marketplace. \nThe Value Builder System is useful whether you’re planning an exit or simply want to ensure you’re building a strong asset for the future. Improving your score can lead to real financial impact. Research across more than 70\,000 businesses shows that companies with a Value Builder Score of 80 or higher sell for a 71% premium compared to average-scoring businesses. \nAfter completing the assessment\, you can choose how to engage with the system based on your needs and preferred level of support:\nGroup Program (6–8 members): $1\,495/year\n1:1 Program: $4\,495/year \nIf you’re interested in joining a Value Builder cohort\, send us a message!
URL:https://sbdc.prodjex.dev/event/value-builder-business-owner-forum/2026-08-20/
LOCATION:4747 Troost Ave\, KCMO 64110
CATEGORIES:Exit,Scale
END:VEVENT
BEGIN:VEVENT
DTSTART;TZID=America/Chicago:20260826T150000
DTEND;TZID=America/Chicago:20260826T180000
DTSTAMP:20260420T121632
CREATED:20251222T174632Z
LAST-MODIFIED:20251222T174632Z
UID:10000851-1787756400-1787767200@sbdc.prodjex.dev
SUMMARY:Tech Startup Mastery
DESCRIPTION:Tech Startup Mastery is a nine-session program designed for entrepreneurs developing technology or science-based businesses who want guidance\, structure\, and connection as they grow. With Kansas City’s entrepreneurial ecosystem moving quickly\, this course helps founders navigate critical decisions with greater confidence. \nThe program was designed by entrepreneurs who understand the challenges of building innovative companies. Participants explore essential topics such as identifying funding sources and investors\, understanding pre- and post-money valuation\, pitching to investors\, managing financial projections\, and navigating due diligence. Additional focus areas include deal sheets\, legal structures\, and assessing business feasibility and market demand. \nSessions are led by experienced business coaches and successful entrepreneurs who combine instruction with hands-on guidance and small-group discussions. Participants learn not only from facilitators\, but also from one another\, creating a collaborative learning environment and a strong peer network. \nBy the end of Tech Startup Mastery\, participants gain practical tools\, clearer direction\, and valuable connections—helping turn a great idea into a viable\, market-ready innovation. \nScholarships may be available\, apply here!
URL:https://sbdc.prodjex.dev/event/tech-startup-mastery/2026-08-26/
LOCATION:4747 Troost Ave\, KCMO 64110
CATEGORIES:Tech
END:VEVENT
BEGIN:VEVENT
DTSTART;TZID=America/Chicago:20260827T083000
DTEND;TZID=America/Chicago:20260827T120000
DTSTAMP:20260420T121632
CREATED:20251222T182349Z
LAST-MODIFIED:20251222T182349Z
UID:10000943-1787819400-1787832000@sbdc.prodjex.dev
SUMMARY:ScaleUp! Kansas City
DESCRIPTION:SCALEUP! Kansas City is designed for established businesses that are ready to pursue significant growth and scale with intention. This intensive series of classes supports companies that have the potential to reach well beyond $1 million in revenue—or those already there who want to keep growing. \nThe program uses a cohort-based model that brings together business owners who are committed to growth and open to learning from both experts and peers. Over 16 structured sessions\, participants focus on strengthening leadership\, improving systems\, refining strategy\, and addressing the real challenges that come with scaling a business. The experience emphasizes practical application\, honest discussion\, and accountability. \nSCALEUP! is a selective opportunity and requires a strong commitment. Participants must meet eligibility requirements and be able to attend all sessions to fully benefit from the program. \nProgram qualifications include: \n\n\nAt least $250\,000 in revenue in the past year \n\n\nAt least 2 employees\, with the owner working full time in or on the business \n\n\nAt least 2 years in business \n\n\nAbility to attend all 16 sessions on Thursdays from 8:30 a.m. to Noon (approximately) \n\n\nCohort 16 begins on August 6\, 2026\, and concludes on November 19\, 2026. Applications are due by Friday\, July 17\, 2026\, with decisions communicated by 5:00 p.m. on Monday\, July 20\, 2026. \nApply here!
URL:https://sbdc.prodjex.dev/event/scaleup-kansas-city-3/2026-08-27/
LOCATION:Multiple locations within the KC Metro
CATEGORIES:Scale
END:VEVENT
END:VCALENDAR