BEGIN:VCALENDAR
VERSION:2.0
PRODID:-//Missouri SBDC - ECPv6.15.12.2//NONSGML v1.0//EN
CALSCALE:GREGORIAN
METHOD:PUBLISH
X-WR-CALNAME:Missouri SBDC
X-ORIGINAL-URL:https://sbdc.prodjex.dev
X-WR-CALDESC:Events for Missouri SBDC
REFRESH-INTERVAL;VALUE=DURATION:PT1H
X-Robots-Tag:noindex
X-PUBLISHED-TTL:PT1H
BEGIN:VTIMEZONE
TZID:America/Chicago
BEGIN:DAYLIGHT
TZOFFSETFROM:-0600
TZOFFSETTO:-0500
TZNAME:CDT
DTSTART:20250309T080000
END:DAYLIGHT
BEGIN:STANDARD
TZOFFSETFROM:-0500
TZOFFSETTO:-0600
TZNAME:CST
DTSTART:20251102T070000
END:STANDARD
BEGIN:DAYLIGHT
TZOFFSETFROM:-0600
TZOFFSETTO:-0500
TZNAME:CDT
DTSTART:20260308T080000
END:DAYLIGHT
BEGIN:STANDARD
TZOFFSETFROM:-0500
TZOFFSETTO:-0600
TZNAME:CST
DTSTART:20261101T070000
END:STANDARD
BEGIN:DAYLIGHT
TZOFFSETFROM:-0600
TZOFFSETTO:-0500
TZNAME:CDT
DTSTART:20270314T080000
END:DAYLIGHT
BEGIN:STANDARD
TZOFFSETFROM:-0500
TZOFFSETTO:-0600
TZNAME:CST
DTSTART:20271107T070000
END:STANDARD
BEGIN:DAYLIGHT
TZOFFSETFROM:-0600
TZOFFSETTO:-0500
TZNAME:CDT
DTSTART:20280312T080000
END:DAYLIGHT
BEGIN:STANDARD
TZOFFSETFROM:-0500
TZOFFSETTO:-0600
TZNAME:CST
DTSTART:20281105T070000
END:STANDARD
END:VTIMEZONE
BEGIN:VEVENT
DTSTART;VALUE=DATE:20261126
DTEND;VALUE=DATE:20261128
DTSTAMP:20260420T221119
CREATED:20251222T191453Z
LAST-MODIFIED:20251222T191453Z
UID:10001034-1795651200-1795823999@sbdc.prodjex.dev
SUMMARY:CLOSED - UMKC HOLIDAY
DESCRIPTION:Our office is closed per UMKC policy.
URL:https://sbdc.prodjex.dev/event/closed-umkc-holiday-7/
LOCATION:4747 Troost Ave\, KCMO 64110
END:VEVENT
BEGIN:VEVENT
DTSTART;TZID=America/Chicago:20261201T090000
DTEND;TZID=America/Chicago:20261201T120000
DTSTAMP:20260420T221119
CREATED:20251222T184610Z
LAST-MODIFIED:20251222T184610Z
UID:10001001-1796115600-1796126400@sbdc.prodjex.dev
SUMMARY:Value Builder Business Owner Forum - Group 2
DESCRIPTION:The Value Builder System helps business owners understand what drives the value of their company and how to increase it over time. Offered through the Missouri Small Business Development Center\, this confidential and comprehensive assessment gives you insight into your business from a buyer’s perspective. \nThe process begins with the Value Builder Score questionnaire\, which takes about 15 minutes to complete. Once finished\, you’ll receive an estimated business value\, an overall score out of 100\, and detailed results across eight key drivers of value. These drivers highlight specific strengths and areas for improvement that directly impact how attractive and valuable your business is in the marketplace. \nThe Value Builder System is useful whether you’re planning an exit or simply want to ensure you’re building a strong asset for the future. Improving your score can lead to real financial impact. Research across more than 70\,000 businesses shows that companies with a Value Builder Score of 80 or higher sell for a 71% premium compared to average-scoring businesses. \nAfter completing the assessment\, you can choose how to engage with the system based on your needs and preferred level of support:\nGroup Program (6–8 members): $1\,495/year\n1:1 Program: $4\,495/year \nIf you’re interested in joining a Value Builder cohort\, send us a message!
URL:https://sbdc.prodjex.dev/event/value-builder-business-owner-forum-group-2/2026-12-01/
LOCATION:4747 Troost Ave\, KCMO 64110
CATEGORIES:Exit,Scale
END:VEVENT
BEGIN:VEVENT
DTSTART;TZID=America/Chicago:20261211T090000
DTEND;TZID=America/Chicago:20261211T120000
DTSTAMP:20260420T221119
CREATED:20251222T184718Z
LAST-MODIFIED:20251222T184718Z
UID:10001025-1796979600-1796990400@sbdc.prodjex.dev
SUMMARY:Value Builder Business Owner Forum - Group 3
DESCRIPTION:The Value Builder System helps business owners understand what drives the value of their company and how to increase it over time. Offered through the Missouri Small Business Development Center\, this confidential and comprehensive assessment gives you insight into your business from a buyer’s perspective. \nThe process begins with the Value Builder Score questionnaire\, which takes about 15 minutes to complete. Once finished\, you’ll receive an estimated business value\, an overall score out of 100\, and detailed results across eight key drivers of value. These drivers highlight specific strengths and areas for improvement that directly impact how attractive and valuable your business is in the marketplace. \nThe Value Builder System is useful whether you’re planning an exit or simply want to ensure you’re building a strong asset for the future. Improving your score can lead to real financial impact. Research across more than 70\,000 businesses shows that companies with a Value Builder Score of 80 or higher sell for a 71% premium compared to average-scoring businesses. \nAfter completing the assessment\, you can choose how to engage with the system based on your needs and preferred level of support:\nGroup Program (6–8 members): $1\,495/year\n1:1 Program: $4\,495/year \nIf you’re interested in joining a Value Builder cohort\, send us a message!
URL:https://sbdc.prodjex.dev/event/value-builder-business-owner-forum-group-3/2026-12-11/
LOCATION:4747 Troost Ave\, KCMO 64110
CATEGORIES:Exit,Scale
END:VEVENT
BEGIN:VEVENT
DTSTART;TZID=America/Chicago:20261216T090000
DTEND;TZID=America/Chicago:20261216T100000
DTSTAMP:20260420T221119
CREATED:20251222T200145Z
LAST-MODIFIED:20251222T200145Z
UID:10001048-1797411600-1797415200@sbdc.prodjex.dev
SUMMARY:Capabilities Statements for Government Contracts
DESCRIPTION:This course is designed to help small businesses and entrepreneurs understand the critical role of a Capability Statement in securing government contracts. Participants will learn the key elements needed to create a compelling and professional Capability Statement that effectively communicates their business’s core competencies\, differentiators\, and past performance to government agencies. Through real-world examples\, the course will walk attendees through best practices for formatting\, saving\, and tailoring their statements to different agencies and contracting opportunities. Additionally\, participants will gain insights into the registration process\, certifications\, and contact information that enhance credibility and responsiveness.
URL:https://sbdc.prodjex.dev/event/capabilities-statements-for-government-contracts/2026-12-16/
LOCATION:Zoom
END:VEVENT
BEGIN:VEVENT
DTSTART;TZID=America/Chicago:20261217T090000
DTEND;TZID=America/Chicago:20261217T120000
DTSTAMP:20260420T221119
CREATED:20251222T183927Z
LAST-MODIFIED:20251222T184337Z
UID:10000978-1797498000-1797508800@sbdc.prodjex.dev
SUMMARY:Value Builder Business Owner Forum - Group 1
DESCRIPTION:The Value Builder System helps business owners understand what drives the value of their company and how to increase it over time. Offered through the Missouri Small Business Development Center\, this confidential and comprehensive assessment gives you insight into your business from a buyer’s perspective. \nThe process begins with the Value Builder Score questionnaire\, which takes about 15 minutes to complete. Once finished\, you’ll receive an estimated business value\, an overall score out of 100\, and detailed results across eight key drivers of value. These drivers highlight specific strengths and areas for improvement that directly impact how attractive and valuable your business is in the marketplace. \nThe Value Builder System is useful whether you’re planning an exit or simply want to ensure you’re building a strong asset for the future. Improving your score can lead to real financial impact. Research across more than 70\,000 businesses shows that companies with a Value Builder Score of 80 or higher sell for a 71% premium compared to average-scoring businesses. \nAfter completing the assessment\, you can choose how to engage with the system based on your needs and preferred level of support:\nGroup Program (6–8 members): $1\,495/year\n1:1 Program: $4\,495/year \nIf you’re interested in joining a Value Builder cohort\, send us a message!
URL:https://sbdc.prodjex.dev/event/value-builder-business-owner-forum/2026-12-17/
LOCATION:4747 Troost Ave\, KCMO 64110
CATEGORIES:Exit,Scale
END:VEVENT
BEGIN:VEVENT
DTSTART;VALUE=DATE:20261225
DTEND;VALUE=DATE:20270102
DTSTAMP:20260420T221119
CREATED:20251222T191631Z
LAST-MODIFIED:20251222T191631Z
UID:10001035-1798156800-1798847999@sbdc.prodjex.dev
SUMMARY:CLOSED - UMKC HOLIDAY
DESCRIPTION:Our office is closed per UMKC policy.
URL:https://sbdc.prodjex.dev/event/closed-umkc-holiday-8/
LOCATION:4747 Troost Ave\, KCMO 64110
END:VEVENT
BEGIN:VEVENT
DTSTART;TZID=America/Chicago:20270105T090000
DTEND;TZID=America/Chicago:20270105T120000
DTSTAMP:20260420T221119
CREATED:20251222T184610Z
LAST-MODIFIED:20251222T184610Z
UID:10001002-1799139600-1799150400@sbdc.prodjex.dev
SUMMARY:Value Builder Business Owner Forum - Group 2
DESCRIPTION:The Value Builder System helps business owners understand what drives the value of their company and how to increase it over time. Offered through the Missouri Small Business Development Center\, this confidential and comprehensive assessment gives you insight into your business from a buyer’s perspective. \nThe process begins with the Value Builder Score questionnaire\, which takes about 15 minutes to complete. Once finished\, you’ll receive an estimated business value\, an overall score out of 100\, and detailed results across eight key drivers of value. These drivers highlight specific strengths and areas for improvement that directly impact how attractive and valuable your business is in the marketplace. \nThe Value Builder System is useful whether you’re planning an exit or simply want to ensure you’re building a strong asset for the future. Improving your score can lead to real financial impact. Research across more than 70\,000 businesses shows that companies with a Value Builder Score of 80 or higher sell for a 71% premium compared to average-scoring businesses. \nAfter completing the assessment\, you can choose how to engage with the system based on your needs and preferred level of support:\nGroup Program (6–8 members): $1\,495/year\n1:1 Program: $4\,495/year \nIf you’re interested in joining a Value Builder cohort\, send us a message!
URL:https://sbdc.prodjex.dev/event/value-builder-business-owner-forum-group-2/2027-01-05/
LOCATION:4747 Troost Ave\, KCMO 64110
CATEGORIES:Exit,Scale
END:VEVENT
BEGIN:VEVENT
DTSTART;TZID=America/Chicago:20270108T090000
DTEND;TZID=America/Chicago:20270108T120000
DTSTAMP:20260420T221119
CREATED:20251222T184718Z
LAST-MODIFIED:20251222T184718Z
UID:10001026-1799398800-1799409600@sbdc.prodjex.dev
SUMMARY:Value Builder Business Owner Forum - Group 3
DESCRIPTION:The Value Builder System helps business owners understand what drives the value of their company and how to increase it over time. Offered through the Missouri Small Business Development Center\, this confidential and comprehensive assessment gives you insight into your business from a buyer’s perspective. \nThe process begins with the Value Builder Score questionnaire\, which takes about 15 minutes to complete. Once finished\, you’ll receive an estimated business value\, an overall score out of 100\, and detailed results across eight key drivers of value. These drivers highlight specific strengths and areas for improvement that directly impact how attractive and valuable your business is in the marketplace. \nThe Value Builder System is useful whether you’re planning an exit or simply want to ensure you’re building a strong asset for the future. Improving your score can lead to real financial impact. Research across more than 70\,000 businesses shows that companies with a Value Builder Score of 80 or higher sell for a 71% premium compared to average-scoring businesses. \nAfter completing the assessment\, you can choose how to engage with the system based on your needs and preferred level of support:\nGroup Program (6–8 members): $1\,495/year\n1:1 Program: $4\,495/year \nIf you’re interested in joining a Value Builder cohort\, send us a message!
URL:https://sbdc.prodjex.dev/event/value-builder-business-owner-forum-group-3/2027-01-08/
LOCATION:4747 Troost Ave\, KCMO 64110
CATEGORIES:Exit,Scale
END:VEVENT
END:VCALENDAR