BEGIN:VCALENDAR
VERSION:2.0
PRODID:-//Missouri SBDC - ECPv6.15.12.2//NONSGML v1.0//EN
CALSCALE:GREGORIAN
METHOD:PUBLISH
X-WR-CALNAME:Missouri SBDC
X-ORIGINAL-URL:https://sbdc.prodjex.dev
X-WR-CALDESC:Events for Missouri SBDC
REFRESH-INTERVAL;VALUE=DURATION:PT1H
X-Robots-Tag:noindex
X-PUBLISHED-TTL:PT1H
BEGIN:VTIMEZONE
TZID:America/Chicago
BEGIN:DAYLIGHT
TZOFFSETFROM:-0600
TZOFFSETTO:-0500
TZNAME:CDT
DTSTART:20250309T080000
END:DAYLIGHT
BEGIN:STANDARD
TZOFFSETFROM:-0500
TZOFFSETTO:-0600
TZNAME:CST
DTSTART:20251102T070000
END:STANDARD
BEGIN:DAYLIGHT
TZOFFSETFROM:-0600
TZOFFSETTO:-0500
TZNAME:CDT
DTSTART:20260308T080000
END:DAYLIGHT
BEGIN:STANDARD
TZOFFSETFROM:-0500
TZOFFSETTO:-0600
TZNAME:CST
DTSTART:20261101T070000
END:STANDARD
BEGIN:DAYLIGHT
TZOFFSETFROM:-0600
TZOFFSETTO:-0500
TZNAME:CDT
DTSTART:20270314T080000
END:DAYLIGHT
BEGIN:STANDARD
TZOFFSETFROM:-0500
TZOFFSETTO:-0600
TZNAME:CST
DTSTART:20271107T070000
END:STANDARD
END:VTIMEZONE
BEGIN:VEVENT
DTSTART;TZID=America/Chicago:20260924T150000
DTEND;TZID=America/Chicago:20260924T180000
DTSTAMP:20260420T182621
CREATED:20251222T175508Z
LAST-MODIFIED:20251222T183042Z
UID:10000898-1790262000-1790272800@sbdc.prodjex.dev
SUMMARY:Startup Boards 101
DESCRIPTION:Startup Boards 101 is designed for early-stage companies that are beginning to think seriously about forming a board—or have recently done so and want to do it well. As businesses grow\, boards can play an important role in providing guidance\, accountability\, and strategic support. \nThis three-part workshop series helps entrepreneurs and potential board members understand the fundamentals of early-stage boards. Participants explore why boards matter\, the different types of boards (including advisory and fiduciary)\, and how boards should function in practice. The focus is on building healthy\, productive relationships between founders and board members. \nFounders selected for the program will have moved beyond the initial startup phase and be ready to consider how a board can support long-term growth. The series also offers valuable networking opportunities\, connecting founders with potential board members and others interested in serving on early-stage boards. \nAttendance at all three workshops is required. Due to the hands-on format and limited capacity\, space is limited.
URL:https://sbdc.prodjex.dev/event/startup-boards-101-3/2026-09-24/
LOCATION:4747 Troost Ave\, KCMO 64110
CATEGORIES:Tech
END:VEVENT
END:VCALENDAR