BEGIN:VCALENDAR
VERSION:2.0
PRODID:-//Missouri SBDC - ECPv6.15.12.2//NONSGML v1.0//EN
CALSCALE:GREGORIAN
METHOD:PUBLISH
X-WR-CALNAME:Missouri SBDC
X-ORIGINAL-URL:https://sbdc.prodjex.dev
X-WR-CALDESC:Events for Missouri SBDC
REFRESH-INTERVAL;VALUE=DURATION:PT1H
X-Robots-Tag:noindex
X-PUBLISHED-TTL:PT1H
BEGIN:VTIMEZONE
TZID:America/Chicago
BEGIN:DAYLIGHT
TZOFFSETFROM:-0600
TZOFFSETTO:-0500
TZNAME:CDT
DTSTART:20250309T080000
END:DAYLIGHT
BEGIN:STANDARD
TZOFFSETFROM:-0500
TZOFFSETTO:-0600
TZNAME:CST
DTSTART:20251102T070000
END:STANDARD
BEGIN:DAYLIGHT
TZOFFSETFROM:-0600
TZOFFSETTO:-0500
TZNAME:CDT
DTSTART:20260308T080000
END:DAYLIGHT
BEGIN:STANDARD
TZOFFSETFROM:-0500
TZOFFSETTO:-0600
TZNAME:CST
DTSTART:20261101T070000
END:STANDARD
BEGIN:DAYLIGHT
TZOFFSETFROM:-0600
TZOFFSETTO:-0500
TZNAME:CDT
DTSTART:20270314T080000
END:DAYLIGHT
BEGIN:STANDARD
TZOFFSETFROM:-0500
TZOFFSETTO:-0600
TZNAME:CST
DTSTART:20271107T070000
END:STANDARD
END:VTIMEZONE
BEGIN:VEVENT
DTSTART;TZID=America/Chicago:20260512T130000
DTEND;TZID=America/Chicago:20260512T143000
DTSTAMP:20260420T121128
CREATED:20251222T164731Z
LAST-MODIFIED:20251222T164731Z
UID:10000774-1778590800-1778596200@sbdc.prodjex.dev
SUMMARY:Winning Federal Research Grants
DESCRIPTION:Winning Federal Research Grants: SBIR/STTR Workshop is an introductory seminar designed for technology-based businesses seeking research and development funding through federal programs. This session provides an overview of the Small Business Innovation Research (SBIR) and Small Business Technology Transfer (STTR) programs and how they support innovation and commercialization. \nParticipants learn how to identify relevant grant opportunities\, understand program requirements\, and navigate the application process. The workshop also highlights best practices for strengthening proposals and increasing competitiveness in these highly selective funding programs. \nSBIR and STTR grants encourage domestic small businesses to participate in federal research and development efforts with strong potential for commercialization. These programs help small businesses explore new technologies\, reduce technical risk\, and move innovations closer to market. By engaging small businesses in the nation’s R&D efforts\, SBIR and STTR support both economic growth and technological advancement. \nNumerous Kansas City–area companies have successfully funded their research through SBIR and STTR grants\, with awards that can total up to $1.5 million per business. This workshop helps participants understand how their business could qualify and what steps are required to pursue this funding.
URL:https://sbdc.prodjex.dev/event/wfrg/
LOCATION:Zoom
CATEGORIES:Tech
END:VEVENT
END:VCALENDAR