BEGIN:VCALENDAR
VERSION:2.0
PRODID:-//Missouri SBDC - ECPv6.15.12.2//NONSGML v1.0//EN
CALSCALE:GREGORIAN
METHOD:PUBLISH
X-ORIGINAL-URL:https://sbdc.prodjex.dev
X-WR-CALDESC:Events for Missouri SBDC
REFRESH-INTERVAL;VALUE=DURATION:PT1H
X-Robots-Tag:noindex
X-PUBLISHED-TTL:PT1H
BEGIN:VTIMEZONE
TZID:America/Chicago
BEGIN:DAYLIGHT
TZOFFSETFROM:-0600
TZOFFSETTO:-0500
TZNAME:CDT
DTSTART:20250309T080000
END:DAYLIGHT
BEGIN:STANDARD
TZOFFSETFROM:-0500
TZOFFSETTO:-0600
TZNAME:CST
DTSTART:20251102T070000
END:STANDARD
BEGIN:DAYLIGHT
TZOFFSETFROM:-0600
TZOFFSETTO:-0500
TZNAME:CDT
DTSTART:20260308T080000
END:DAYLIGHT
BEGIN:STANDARD
TZOFFSETFROM:-0500
TZOFFSETTO:-0600
TZNAME:CST
DTSTART:20261101T070000
END:STANDARD
BEGIN:DAYLIGHT
TZOFFSETFROM:-0600
TZOFFSETTO:-0500
TZNAME:CDT
DTSTART:20270314T080000
END:DAYLIGHT
BEGIN:STANDARD
TZOFFSETFROM:-0500
TZOFFSETTO:-0600
TZNAME:CST
DTSTART:20271107T070000
END:STANDARD
END:VTIMEZONE
BEGIN:VEVENT
DTSTART;TZID=America/Chicago:20260210T150000
DTEND;TZID=America/Chicago:20260210T180000
DTSTAMP:20260420T132425
CREATED:20251219T202420Z
LAST-MODIFIED:20251222T155001Z
UID:10000738-1770735600-1770746400@sbdc.prodjex.dev
SUMMARY:Proof to Profit
DESCRIPTION:Too many businesses struggle because they’re built on assumptions instead of real customer feedback. Proof to Profit is a three-part virtual training series designed to help entrepreneurs test and validate their ideas early. \nThis course focuses on customer discovery—learning directly from the people you want to serve. You’ll explore practical ways to gather proof through interviews\, surveys\, observations\, and small experiments. These tools help you understand what customers need\, what they value\, and whether your idea is worth pursuing. \nUsing ideas from All In Startup by Diana Kander\, the course helps you avoid the “Startup Loop of Despair\,” where entrepreneurs invest time and money without seeing results. Instead\, you’ll learn how to test\, learn\, and adjust before making big commitments. \nThe series is led by Senior Business Development Consultant Joel Barrett\, a serial entrepreneur who has coached hundreds of business owners. Participants receive a digital copy of All In Startup\, group discussion and coaching\, tools to gather proof of concept\, and access to one-on-one business coaching. \nThis class is a prerequisite to StartSmart. \nScholarships may be available\, apply here!
URL:https://sbdc.prodjex.dev/event/proof/2026-02-10/
LOCATION:4747 Troost Ave\, KCMO 64110
CATEGORIES:Start,Tech
END:VEVENT
END:VCALENDAR