BEGIN:VCALENDAR
VERSION:2.0
PRODID:-//Missouri SBDC - ECPv6.15.12.2//NONSGML v1.0//EN
CALSCALE:GREGORIAN
METHOD:PUBLISH
X-ORIGINAL-URL:https://sbdc.prodjex.dev
X-WR-CALDESC:Events for Missouri SBDC
REFRESH-INTERVAL;VALUE=DURATION:PT1H
X-Robots-Tag:noindex
X-PUBLISHED-TTL:PT1H
BEGIN:VTIMEZONE
TZID:America/Chicago
BEGIN:DAYLIGHT
TZOFFSETFROM:-0600
TZOFFSETTO:-0500
TZNAME:CDT
DTSTART:20250309T080000
END:DAYLIGHT
BEGIN:STANDARD
TZOFFSETFROM:-0500
TZOFFSETTO:-0600
TZNAME:CST
DTSTART:20251102T070000
END:STANDARD
BEGIN:DAYLIGHT
TZOFFSETFROM:-0600
TZOFFSETTO:-0500
TZNAME:CDT
DTSTART:20260308T080000
END:DAYLIGHT
BEGIN:STANDARD
TZOFFSETFROM:-0500
TZOFFSETTO:-0600
TZNAME:CST
DTSTART:20261101T070000
END:STANDARD
BEGIN:DAYLIGHT
TZOFFSETFROM:-0600
TZOFFSETTO:-0500
TZNAME:CDT
DTSTART:20270314T080000
END:DAYLIGHT
BEGIN:STANDARD
TZOFFSETFROM:-0500
TZOFFSETTO:-0600
TZNAME:CST
DTSTART:20271107T070000
END:STANDARD
END:VTIMEZONE
BEGIN:VEVENT
DTSTART;TZID=America/Chicago:20260924T083000
DTEND;TZID=America/Chicago:20260924T120000
DTSTAMP:20260420T171229
CREATED:20251222T182349Z
LAST-MODIFIED:20251222T182349Z
UID:10000947-1790238600-1790251200@sbdc.prodjex.dev
SUMMARY:ScaleUp! Kansas City
DESCRIPTION:SCALEUP! Kansas City is designed for established businesses that are ready to pursue significant growth and scale with intention. This intensive series of classes supports companies that have the potential to reach well beyond $1 million in revenue—or those already there who want to keep growing. \nThe program uses a cohort-based model that brings together business owners who are committed to growth and open to learning from both experts and peers. Over 16 structured sessions\, participants focus on strengthening leadership\, improving systems\, refining strategy\, and addressing the real challenges that come with scaling a business. The experience emphasizes practical application\, honest discussion\, and accountability. \nSCALEUP! is a selective opportunity and requires a strong commitment. Participants must meet eligibility requirements and be able to attend all sessions to fully benefit from the program. \nProgram qualifications include: \n\n\nAt least $250\,000 in revenue in the past year \n\n\nAt least 2 employees\, with the owner working full time in or on the business \n\n\nAt least 2 years in business \n\n\nAbility to attend all 16 sessions on Thursdays from 8:30 a.m. to Noon (approximately) \n\n\nCohort 16 begins on August 6\, 2026\, and concludes on November 19\, 2026. Applications are due by Friday\, July 17\, 2026\, with decisions communicated by 5:00 p.m. on Monday\, July 20\, 2026. \nApply here!
URL:https://sbdc.prodjex.dev/event/scaleup-kansas-city-3/2026-09-24/
LOCATION:Multiple locations within the KC Metro
CATEGORIES:Scale
END:VEVENT
END:VCALENDAR