BEGIN:VCALENDAR
VERSION:2.0
PRODID:-//Missouri SBDC - ECPv6.15.12.2//NONSGML v1.0//EN
CALSCALE:GREGORIAN
METHOD:PUBLISH
X-WR-CALNAME:Missouri SBDC
X-ORIGINAL-URL:https://sbdc.prodjex.dev
X-WR-CALDESC:Events for Missouri SBDC
REFRESH-INTERVAL;VALUE=DURATION:PT1H
X-Robots-Tag:noindex
X-PUBLISHED-TTL:PT1H
BEGIN:VTIMEZONE
TZID:America/Chicago
BEGIN:DAYLIGHT
TZOFFSETFROM:-0600
TZOFFSETTO:-0500
TZNAME:CDT
DTSTART:20250309T080000
END:DAYLIGHT
BEGIN:STANDARD
TZOFFSETFROM:-0500
TZOFFSETTO:-0600
TZNAME:CST
DTSTART:20251102T070000
END:STANDARD
BEGIN:DAYLIGHT
TZOFFSETFROM:-0600
TZOFFSETTO:-0500
TZNAME:CDT
DTSTART:20260308T080000
END:DAYLIGHT
BEGIN:STANDARD
TZOFFSETFROM:-0500
TZOFFSETTO:-0600
TZNAME:CST
DTSTART:20261101T070000
END:STANDARD
BEGIN:DAYLIGHT
TZOFFSETFROM:-0600
TZOFFSETTO:-0500
TZNAME:CDT
DTSTART:20270314T080000
END:DAYLIGHT
BEGIN:STANDARD
TZOFFSETFROM:-0500
TZOFFSETTO:-0600
TZNAME:CST
DTSTART:20271107T070000
END:STANDARD
END:VTIMEZONE
BEGIN:VEVENT
DTSTART;TZID=America/Chicago:20260721T150000
DTEND;TZID=America/Chicago:20260721T180000
DTSTAMP:20260420T143213
CREATED:20251222T173543Z
LAST-MODIFIED:20251222T173543Z
UID:10000838-1784646000-1784656800@sbdc.prodjex.dev
SUMMARY:Build your Brand & Marketing Blueprint
DESCRIPTION:Strong marketing starts with clarity. This course is designed to help small business owners create that clarity by first defining their brand and then building a marketing plan that supports long-term success. \nYou’ll begin by learning what brand identity is and why it plays such an important role in marketing. We’ll break down the core elements of your brand and show how they shape the way customers see and experience your business. With a clear brand foundation\, your marketing becomes more consistent and more effective. \nFrom there\, you’ll build a marketing strategy that fits your business. Topics include setting realistic goals\, understanding your audience\, prioritizing key messages\, and choosing marketing activities that align with your time and resources. You’ll also be introduced to practical tools and AI tips that can help simplify planning and execution. \nBy the end of the session\, you’ll have a working brand identity and marketing plan template\, plus a clearer path forward for improving and refining your marketing over time. \nScholarships may be available\, apply here!
URL:https://sbdc.prodjex.dev/event/build-your-brand-marketing-blueprint/
LOCATION:4747 Troost Ave\, KCMO 64110
CATEGORIES:Growth,Scale,Start,Tech
END:VEVENT
END:VCALENDAR