BEGIN:VCALENDAR
VERSION:2.0
PRODID:-//Missouri SBDC - ECPv6.15.12.2//NONSGML v1.0//EN
CALSCALE:GREGORIAN
METHOD:PUBLISH
X-WR-CALNAME:Missouri SBDC
X-ORIGINAL-URL:https://sbdc.prodjex.dev
X-WR-CALDESC:Events for Missouri SBDC
REFRESH-INTERVAL;VALUE=DURATION:PT1H
X-Robots-Tag:noindex
X-PUBLISHED-TTL:PT1H
BEGIN:VTIMEZONE
TZID:America/Chicago
BEGIN:DAYLIGHT
TZOFFSETFROM:-0600
TZOFFSETTO:-0500
TZNAME:CDT
DTSTART:20250309T080000
END:DAYLIGHT
BEGIN:STANDARD
TZOFFSETFROM:-0500
TZOFFSETTO:-0600
TZNAME:CST
DTSTART:20251102T070000
END:STANDARD
BEGIN:DAYLIGHT
TZOFFSETFROM:-0600
TZOFFSETTO:-0500
TZNAME:CDT
DTSTART:20260308T080000
END:DAYLIGHT
BEGIN:STANDARD
TZOFFSETFROM:-0500
TZOFFSETTO:-0600
TZNAME:CST
DTSTART:20261101T070000
END:STANDARD
BEGIN:DAYLIGHT
TZOFFSETFROM:-0600
TZOFFSETTO:-0500
TZNAME:CDT
DTSTART:20270314T080000
END:DAYLIGHT
BEGIN:STANDARD
TZOFFSETFROM:-0500
TZOFFSETTO:-0600
TZNAME:CST
DTSTART:20271107T070000
END:STANDARD
END:VTIMEZONE
BEGIN:VEVENT
DTSTART;TZID=America/Chicago:20260310T150000
DTEND;TZID=America/Chicago:20260310T180000
DTSTAMP:20260420T121245
CREATED:20251212T225811Z
LAST-MODIFIED:20251222T161129Z
UID:10000710-1773154800-1773165600@sbdc.prodjex.dev
SUMMARY:Reading & Understanding Financial Statements
DESCRIPTION:Many small business owners feel unsure when looking at financial statements. This class helps take the mystery out of income statements and balance sheets so you can use them as tools\, not obstacles. \nParticipants will learn how to identify key information on an income statement and balance sheet and understand how those reports reflect the financial health of a business. The session introduces several common financial ratios\, explains how to calculate them\, and shows what they reveal about productivity\, efficiency\, and success. \nThe focus is on practical use. You’ll learn how to interpret financial information in ways that support better decision-making and clearer conversations with accountants\, lenders\, or advisors. \nBy the end of the class\, you’ll have a stronger understanding of how financial statements work and how to use them to make more informed\, confident business decisions. \nScholarships may be available\, apply here!
URL:https://sbdc.prodjex.dev/event/rufs/
LOCATION:4747 Troost Ave\, KCMO 64110
CATEGORIES:Growth,Scale,Start,Tech
END:VEVENT
END:VCALENDAR