BEGIN:VCALENDAR
VERSION:2.0
PRODID:-//Missouri SBDC - ECPv6.15.12.2//NONSGML v1.0//EN
CALSCALE:GREGORIAN
METHOD:PUBLISH
X-WR-CALNAME:Missouri SBDC
X-ORIGINAL-URL:https://sbdc.prodjex.dev
X-WR-CALDESC:Events for Missouri SBDC
REFRESH-INTERVAL;VALUE=DURATION:PT1H
X-Robots-Tag:noindex
X-PUBLISHED-TTL:PT1H
BEGIN:VTIMEZONE
TZID:America/Chicago
BEGIN:DAYLIGHT
TZOFFSETFROM:-0600
TZOFFSETTO:-0500
TZNAME:CDT
DTSTART:20250309T080000
END:DAYLIGHT
BEGIN:STANDARD
TZOFFSETFROM:-0500
TZOFFSETTO:-0600
TZNAME:CST
DTSTART:20251102T070000
END:STANDARD
BEGIN:DAYLIGHT
TZOFFSETFROM:-0600
TZOFFSETTO:-0500
TZNAME:CDT
DTSTART:20260308T080000
END:DAYLIGHT
BEGIN:STANDARD
TZOFFSETFROM:-0500
TZOFFSETTO:-0600
TZNAME:CST
DTSTART:20261101T070000
END:STANDARD
BEGIN:DAYLIGHT
TZOFFSETFROM:-0600
TZOFFSETTO:-0500
TZNAME:CDT
DTSTART:20270314T080000
END:DAYLIGHT
BEGIN:STANDARD
TZOFFSETFROM:-0500
TZOFFSETTO:-0600
TZNAME:CST
DTSTART:20271107T070000
END:STANDARD
END:VTIMEZONE
BEGIN:VEVENT
DTSTART;TZID=America/Chicago:20261103T090000
DTEND;TZID=America/Chicago:20261103T120000
DTSTAMP:20260420T183036
CREATED:20251222T184610Z
LAST-MODIFIED:20251222T184610Z
UID:10001000-1793696400-1793707200@sbdc.prodjex.dev
SUMMARY:Value Builder Business Owner Forum - Group 2
DESCRIPTION:The Value Builder System helps business owners understand what drives the value of their company and how to increase it over time. Offered through the Missouri Small Business Development Center\, this confidential and comprehensive assessment gives you insight into your business from a buyer’s perspective. \nThe process begins with the Value Builder Score questionnaire\, which takes about 15 minutes to complete. Once finished\, you’ll receive an estimated business value\, an overall score out of 100\, and detailed results across eight key drivers of value. These drivers highlight specific strengths and areas for improvement that directly impact how attractive and valuable your business is in the marketplace. \nThe Value Builder System is useful whether you’re planning an exit or simply want to ensure you’re building a strong asset for the future. Improving your score can lead to real financial impact. Research across more than 70\,000 businesses shows that companies with a Value Builder Score of 80 or higher sell for a 71% premium compared to average-scoring businesses. \nAfter completing the assessment\, you can choose how to engage with the system based on your needs and preferred level of support:\nGroup Program (6–8 members): $1\,495/year\n1:1 Program: $4\,495/year \nIf you’re interested in joining a Value Builder cohort\, send us a message!
URL:https://sbdc.prodjex.dev/event/value-builder-business-owner-forum-group-2/2026-11-03/
LOCATION:4747 Troost Ave\, KCMO 64110
CATEGORIES:Exit,Scale
END:VEVENT
BEGIN:VEVENT
DTSTART;TZID=America/Chicago:20261103T150000
DTEND;TZID=America/Chicago:20261103T180000
DTSTAMP:20260420T183036
CREATED:20251222T181621Z
LAST-MODIFIED:20251222T181621Z
UID:10000927-1793718000-1793728800@sbdc.prodjex.dev
SUMMARY:Build your Brand & Marketing Blueprint
DESCRIPTION:Strong marketing starts with clarity. This course is designed to help small business owners create that clarity by first defining their brand and then building a marketing plan that supports long-term success. \nYou’ll begin by learning what brand identity is and why it plays such an important role in marketing. We’ll break down the core elements of your brand and show how they shape the way customers see and experience your business. With a clear brand foundation\, your marketing becomes more consistent and more effective. \nFrom there\, you’ll build a marketing strategy that fits your business. Topics include setting realistic goals\, understanding your audience\, prioritizing key messages\, and choosing marketing activities that align with your time and resources. You’ll also be introduced to practical tools and AI tips that can help simplify planning and execution. \nBy the end of the session\, you’ll have a working brand identity and marketing plan template\, plus a clearer path forward for improving and refining your marketing over time. \nScholarships may be available\, apply here!
URL:https://sbdc.prodjex.dev/event/build-your-brand-marketing-blueprint-2/
LOCATION:4747 Troost Ave\, KCMO 64110
CATEGORIES:Growth,Scale,Start,Tech
END:VEVENT
BEGIN:VEVENT
DTSTART;TZID=America/Chicago:20261105T083000
DTEND;TZID=America/Chicago:20261105T120000
DTSTAMP:20260420T183036
CREATED:20251222T182349Z
LAST-MODIFIED:20251222T182349Z
UID:10000953-1793867400-1793880000@sbdc.prodjex.dev
SUMMARY:ScaleUp! Kansas City
DESCRIPTION:SCALEUP! Kansas City is designed for established businesses that are ready to pursue significant growth and scale with intention. This intensive series of classes supports companies that have the potential to reach well beyond $1 million in revenue—or those already there who want to keep growing. \nThe program uses a cohort-based model that brings together business owners who are committed to growth and open to learning from both experts and peers. Over 16 structured sessions\, participants focus on strengthening leadership\, improving systems\, refining strategy\, and addressing the real challenges that come with scaling a business. The experience emphasizes practical application\, honest discussion\, and accountability. \nSCALEUP! is a selective opportunity and requires a strong commitment. Participants must meet eligibility requirements and be able to attend all sessions to fully benefit from the program. \nProgram qualifications include: \n\n\nAt least $250\,000 in revenue in the past year \n\n\nAt least 2 employees\, with the owner working full time in or on the business \n\n\nAt least 2 years in business \n\n\nAbility to attend all 16 sessions on Thursdays from 8:30 a.m. to Noon (approximately) \n\n\nCohort 16 begins on August 6\, 2026\, and concludes on November 19\, 2026. Applications are due by Friday\, July 17\, 2026\, with decisions communicated by 5:00 p.m. on Monday\, July 20\, 2026. \nApply here!
URL:https://sbdc.prodjex.dev/event/scaleup-kansas-city-3/2026-11-05/
LOCATION:Multiple locations within the KC Metro
CATEGORIES:Scale
END:VEVENT
BEGIN:VEVENT
DTSTART;TZID=America/Chicago:20261110T150000
DTEND;TZID=America/Chicago:20261110T180000
DTSTAMP:20260420T183036
CREATED:20251222T181815Z
LAST-MODIFIED:20251222T181815Z
UID:10000928-1794322800-1794333600@sbdc.prodjex.dev
SUMMARY:Social Media Strategies
DESCRIPTION:Social media works best when there’s a clear plan behind it. This workshop is designed to help small business owners create a social media strategy that feels focused\, intentional\, and realistic. \nThe session begins with defining your social media strategy. Before posting anything\, you’ll explore why you’re on social media\, who you want to reach\, and which platforms are worth your time. You’ll learn how to set clear objectives\, understand your target audience\, and choose the right channels for your brand. \nNext\, the workshop focuses on optimizing your social media profiles. You’ll look at how platforms like Instagram and LinkedIn create first impressions and learn how to adjust your profiles so they attract the right audience and encourage engagement. \nFinally\, you’ll dive into creating content efficiently. This section addresses the challenge many small business owners face—posting consistently without a full marketing team. You’ll learn simple\, practical approaches to planning and creating content so social media feels sustainable. \nThe workshop is led by Maggie Glenski\, an award-winning content marketer and founder of Wrinkle’s Content Studio. Maggie brings agency-level experience working with major brands and now helps small businesses grow through intentional\, high-quality content and smart strategy. \nScholarships may be available\, apply here!
URL:https://sbdc.prodjex.dev/event/social-media-strategies-3/
LOCATION:4747 Troost Ave\, KCMO 64110
CATEGORIES:Growth,Scale,Start,Tech
END:VEVENT
BEGIN:VEVENT
DTSTART;TZID=America/Chicago:20261112T083000
DTEND;TZID=America/Chicago:20261112T120000
DTSTAMP:20260420T183036
CREATED:20251222T182349Z
LAST-MODIFIED:20251222T182349Z
UID:10000954-1794472200-1794484800@sbdc.prodjex.dev
SUMMARY:ScaleUp! Kansas City
DESCRIPTION:SCALEUP! Kansas City is designed for established businesses that are ready to pursue significant growth and scale with intention. This intensive series of classes supports companies that have the potential to reach well beyond $1 million in revenue—or those already there who want to keep growing. \nThe program uses a cohort-based model that brings together business owners who are committed to growth and open to learning from both experts and peers. Over 16 structured sessions\, participants focus on strengthening leadership\, improving systems\, refining strategy\, and addressing the real challenges that come with scaling a business. The experience emphasizes practical application\, honest discussion\, and accountability. \nSCALEUP! is a selective opportunity and requires a strong commitment. Participants must meet eligibility requirements and be able to attend all sessions to fully benefit from the program. \nProgram qualifications include: \n\n\nAt least $250\,000 in revenue in the past year \n\n\nAt least 2 employees\, with the owner working full time in or on the business \n\n\nAt least 2 years in business \n\n\nAbility to attend all 16 sessions on Thursdays from 8:30 a.m. to Noon (approximately) \n\n\nCohort 16 begins on August 6\, 2026\, and concludes on November 19\, 2026. Applications are due by Friday\, July 17\, 2026\, with decisions communicated by 5:00 p.m. on Monday\, July 20\, 2026. \nApply here!
URL:https://sbdc.prodjex.dev/event/scaleup-kansas-city-3/2026-11-12/
LOCATION:Multiple locations within the KC Metro
CATEGORIES:Scale
END:VEVENT
BEGIN:VEVENT
DTSTART;TZID=America/Chicago:20261113T090000
DTEND;TZID=America/Chicago:20261113T120000
DTSTAMP:20260420T183036
CREATED:20251222T184718Z
LAST-MODIFIED:20251222T184718Z
UID:10001024-1794560400-1794571200@sbdc.prodjex.dev
SUMMARY:Value Builder Business Owner Forum - Group 3
DESCRIPTION:The Value Builder System helps business owners understand what drives the value of their company and how to increase it over time. Offered through the Missouri Small Business Development Center\, this confidential and comprehensive assessment gives you insight into your business from a buyer’s perspective. \nThe process begins with the Value Builder Score questionnaire\, which takes about 15 minutes to complete. Once finished\, you’ll receive an estimated business value\, an overall score out of 100\, and detailed results across eight key drivers of value. These drivers highlight specific strengths and areas for improvement that directly impact how attractive and valuable your business is in the marketplace. \nThe Value Builder System is useful whether you’re planning an exit or simply want to ensure you’re building a strong asset for the future. Improving your score can lead to real financial impact. Research across more than 70\,000 businesses shows that companies with a Value Builder Score of 80 or higher sell for a 71% premium compared to average-scoring businesses. \nAfter completing the assessment\, you can choose how to engage with the system based on your needs and preferred level of support:\nGroup Program (6–8 members): $1\,495/year\n1:1 Program: $4\,495/year \nIf you’re interested in joining a Value Builder cohort\, send us a message!
URL:https://sbdc.prodjex.dev/event/value-builder-business-owner-forum-group-3/2026-11-13/
LOCATION:4747 Troost Ave\, KCMO 64110
CATEGORIES:Exit,Scale
END:VEVENT
BEGIN:VEVENT
DTSTART;TZID=America/Chicago:20261117T150000
DTEND;TZID=America/Chicago:20261117T180000
DTSTAMP:20260420T183036
CREATED:20251222T181931Z
LAST-MODIFIED:20251222T181931Z
UID:10000929-1794927600-1794938400@sbdc.prodjex.dev
SUMMARY:Content Creation with AI
DESCRIPTION:AI is transforming how we brainstorm\, write\, and design—but using it well takes strategy. In this hands-on masterclass\, you’ll learn how to use tools like ChatGPT\, Canva\, and Descript to streamline your creative process without losing your authentic voice. \nLed by Maliha Khan\, Founder & CEO of Khanect the Dots LLC and Khancepts Studio\, this session blends strategic insight with practical exercises designed to help you:\nGenerate fresh\, brand-aligned content ideas on demand\nCreate marketing visuals and videos faster using AI tools\nWrite stronger\, more human-sounding copy with AI assistance\nBuild a repeatable content workflow you can actually stick to \nWhether you’re a small business owner\, marketing professional\, or content creator\, you’ll leave with clear takeaways\, actionable templates\, and the confidence to use AI with intention—not imitation. \nScholarships may be available\, apply here!
URL:https://sbdc.prodjex.dev/event/content-creation-with-ai-2/
LOCATION:4747 Troost Ave\, KCMO 64110
CATEGORIES:Growth,Scale,Start,Tech
END:VEVENT
BEGIN:VEVENT
DTSTART;TZID=America/Chicago:20261119T083000
DTEND;TZID=America/Chicago:20261119T120000
DTSTAMP:20260420T183036
CREATED:20251222T182349Z
LAST-MODIFIED:20251222T182349Z
UID:10000955-1795077000-1795089600@sbdc.prodjex.dev
SUMMARY:ScaleUp! Kansas City
DESCRIPTION:SCALEUP! Kansas City is designed for established businesses that are ready to pursue significant growth and scale with intention. This intensive series of classes supports companies that have the potential to reach well beyond $1 million in revenue—or those already there who want to keep growing. \nThe program uses a cohort-based model that brings together business owners who are committed to growth and open to learning from both experts and peers. Over 16 structured sessions\, participants focus on strengthening leadership\, improving systems\, refining strategy\, and addressing the real challenges that come with scaling a business. The experience emphasizes practical application\, honest discussion\, and accountability. \nSCALEUP! is a selective opportunity and requires a strong commitment. Participants must meet eligibility requirements and be able to attend all sessions to fully benefit from the program. \nProgram qualifications include: \n\n\nAt least $250\,000 in revenue in the past year \n\n\nAt least 2 employees\, with the owner working full time in or on the business \n\n\nAt least 2 years in business \n\n\nAbility to attend all 16 sessions on Thursdays from 8:30 a.m. to Noon (approximately) \n\n\nCohort 16 begins on August 6\, 2026\, and concludes on November 19\, 2026. Applications are due by Friday\, July 17\, 2026\, with decisions communicated by 5:00 p.m. on Monday\, July 20\, 2026. \nApply here!
URL:https://sbdc.prodjex.dev/event/scaleup-kansas-city-3/2026-11-19/
LOCATION:Multiple locations within the KC Metro
CATEGORIES:Scale
END:VEVENT
BEGIN:VEVENT
DTSTART;TZID=America/Chicago:20261119T090000
DTEND;TZID=America/Chicago:20261119T120000
DTSTAMP:20260420T183036
CREATED:20251222T183927Z
LAST-MODIFIED:20251222T184337Z
UID:10000977-1795078800-1795089600@sbdc.prodjex.dev
SUMMARY:Value Builder Business Owner Forum - Group 1
DESCRIPTION:The Value Builder System helps business owners understand what drives the value of their company and how to increase it over time. Offered through the Missouri Small Business Development Center\, this confidential and comprehensive assessment gives you insight into your business from a buyer’s perspective. \nThe process begins with the Value Builder Score questionnaire\, which takes about 15 minutes to complete. Once finished\, you’ll receive an estimated business value\, an overall score out of 100\, and detailed results across eight key drivers of value. These drivers highlight specific strengths and areas for improvement that directly impact how attractive and valuable your business is in the marketplace. \nThe Value Builder System is useful whether you’re planning an exit or simply want to ensure you’re building a strong asset for the future. Improving your score can lead to real financial impact. Research across more than 70\,000 businesses shows that companies with a Value Builder Score of 80 or higher sell for a 71% premium compared to average-scoring businesses. \nAfter completing the assessment\, you can choose how to engage with the system based on your needs and preferred level of support:\nGroup Program (6–8 members): $1\,495/year\n1:1 Program: $4\,495/year \nIf you’re interested in joining a Value Builder cohort\, send us a message!
URL:https://sbdc.prodjex.dev/event/value-builder-business-owner-forum/2026-11-19/
LOCATION:4747 Troost Ave\, KCMO 64110
CATEGORIES:Exit,Scale
END:VEVENT
END:VCALENDAR