BEGIN:VCALENDAR
VERSION:2.0
PRODID:-//Missouri SBDC - ECPv6.15.12.2//NONSGML v1.0//EN
CALSCALE:GREGORIAN
METHOD:PUBLISH
X-ORIGINAL-URL:https://sbdc.prodjex.dev
X-WR-CALDESC:Events for Missouri SBDC
REFRESH-INTERVAL;VALUE=DURATION:PT1H
X-Robots-Tag:noindex
X-PUBLISHED-TTL:PT1H
BEGIN:VTIMEZONE
TZID:America/Chicago
BEGIN:DAYLIGHT
TZOFFSETFROM:-0600
TZOFFSETTO:-0500
TZNAME:CDT
DTSTART:20250309T080000
END:DAYLIGHT
BEGIN:STANDARD
TZOFFSETFROM:-0500
TZOFFSETTO:-0600
TZNAME:CST
DTSTART:20251102T070000
END:STANDARD
BEGIN:DAYLIGHT
TZOFFSETFROM:-0600
TZOFFSETTO:-0500
TZNAME:CDT
DTSTART:20260308T080000
END:DAYLIGHT
BEGIN:STANDARD
TZOFFSETFROM:-0500
TZOFFSETTO:-0600
TZNAME:CST
DTSTART:20261101T070000
END:STANDARD
BEGIN:DAYLIGHT
TZOFFSETFROM:-0600
TZOFFSETTO:-0500
TZNAME:CDT
DTSTART:20270314T080000
END:DAYLIGHT
BEGIN:STANDARD
TZOFFSETFROM:-0500
TZOFFSETTO:-0600
TZNAME:CST
DTSTART:20271107T070000
END:STANDARD
END:VTIMEZONE
BEGIN:VEVENT
DTSTART;TZID=America/Chicago:20261001T083000
DTEND;TZID=America/Chicago:20261001T120000
DTSTAMP:20260420T170955
CREATED:20251222T182349Z
LAST-MODIFIED:20251222T182349Z
UID:10000948-1790843400-1790856000@sbdc.prodjex.dev
SUMMARY:ScaleUp! Kansas City
DESCRIPTION:SCALEUP! Kansas City is designed for established businesses that are ready to pursue significant growth and scale with intention. This intensive series of classes supports companies that have the potential to reach well beyond $1 million in revenue—or those already there who want to keep growing. \nThe program uses a cohort-based model that brings together business owners who are committed to growth and open to learning from both experts and peers. Over 16 structured sessions\, participants focus on strengthening leadership\, improving systems\, refining strategy\, and addressing the real challenges that come with scaling a business. The experience emphasizes practical application\, honest discussion\, and accountability. \nSCALEUP! is a selective opportunity and requires a strong commitment. Participants must meet eligibility requirements and be able to attend all sessions to fully benefit from the program. \nProgram qualifications include: \n\n\nAt least $250\,000 in revenue in the past year \n\n\nAt least 2 employees\, with the owner working full time in or on the business \n\n\nAt least 2 years in business \n\n\nAbility to attend all 16 sessions on Thursdays from 8:30 a.m. to Noon (approximately) \n\n\nCohort 16 begins on August 6\, 2026\, and concludes on November 19\, 2026. Applications are due by Friday\, July 17\, 2026\, with decisions communicated by 5:00 p.m. on Monday\, July 20\, 2026. \nApply here!
URL:https://sbdc.prodjex.dev/event/scaleup-kansas-city-3/2026-10-01/
LOCATION:Multiple locations within the KC Metro
CATEGORIES:Scale
END:VEVENT
BEGIN:VEVENT
DTSTART;TZID=America/Chicago:20261006T090000
DTEND;TZID=America/Chicago:20261006T120000
DTSTAMP:20260420T170955
CREATED:20251222T184610Z
LAST-MODIFIED:20251222T184610Z
UID:10000999-1791277200-1791288000@sbdc.prodjex.dev
SUMMARY:Value Builder Business Owner Forum - Group 2
DESCRIPTION:The Value Builder System helps business owners understand what drives the value of their company and how to increase it over time. Offered through the Missouri Small Business Development Center\, this confidential and comprehensive assessment gives you insight into your business from a buyer’s perspective. \nThe process begins with the Value Builder Score questionnaire\, which takes about 15 minutes to complete. Once finished\, you’ll receive an estimated business value\, an overall score out of 100\, and detailed results across eight key drivers of value. These drivers highlight specific strengths and areas for improvement that directly impact how attractive and valuable your business is in the marketplace. \nThe Value Builder System is useful whether you’re planning an exit or simply want to ensure you’re building a strong asset for the future. Improving your score can lead to real financial impact. Research across more than 70\,000 businesses shows that companies with a Value Builder Score of 80 or higher sell for a 71% premium compared to average-scoring businesses. \nAfter completing the assessment\, you can choose how to engage with the system based on your needs and preferred level of support:\nGroup Program (6–8 members): $1\,495/year\n1:1 Program: $4\,495/year \nIf you’re interested in joining a Value Builder cohort\, send us a message!
URL:https://sbdc.prodjex.dev/event/value-builder-business-owner-forum-group-2/2026-10-06/
LOCATION:4747 Troost Ave\, KCMO 64110
CATEGORIES:Exit,Scale
END:VEVENT
BEGIN:VEVENT
DTSTART;TZID=America/Chicago:20261008T083000
DTEND;TZID=America/Chicago:20261008T120000
DTSTAMP:20260420T170955
CREATED:20251222T182349Z
LAST-MODIFIED:20251222T182349Z
UID:10000949-1791448200-1791460800@sbdc.prodjex.dev
SUMMARY:ScaleUp! Kansas City
DESCRIPTION:SCALEUP! Kansas City is designed for established businesses that are ready to pursue significant growth and scale with intention. This intensive series of classes supports companies that have the potential to reach well beyond $1 million in revenue—or those already there who want to keep growing. \nThe program uses a cohort-based model that brings together business owners who are committed to growth and open to learning from both experts and peers. Over 16 structured sessions\, participants focus on strengthening leadership\, improving systems\, refining strategy\, and addressing the real challenges that come with scaling a business. The experience emphasizes practical application\, honest discussion\, and accountability. \nSCALEUP! is a selective opportunity and requires a strong commitment. Participants must meet eligibility requirements and be able to attend all sessions to fully benefit from the program. \nProgram qualifications include: \n\n\nAt least $250\,000 in revenue in the past year \n\n\nAt least 2 employees\, with the owner working full time in or on the business \n\n\nAt least 2 years in business \n\n\nAbility to attend all 16 sessions on Thursdays from 8:30 a.m. to Noon (approximately) \n\n\nCohort 16 begins on August 6\, 2026\, and concludes on November 19\, 2026. Applications are due by Friday\, July 17\, 2026\, with decisions communicated by 5:00 p.m. on Monday\, July 20\, 2026. \nApply here!
URL:https://sbdc.prodjex.dev/event/scaleup-kansas-city-3/2026-10-08/
LOCATION:Multiple locations within the KC Metro
CATEGORIES:Scale
END:VEVENT
BEGIN:VEVENT
DTSTART;TZID=America/Chicago:20261009T090000
DTEND;TZID=America/Chicago:20261009T120000
DTSTAMP:20260420T170955
CREATED:20251222T184718Z
LAST-MODIFIED:20251222T184718Z
UID:10001023-1791536400-1791547200@sbdc.prodjex.dev
SUMMARY:Value Builder Business Owner Forum - Group 3
DESCRIPTION:The Value Builder System helps business owners understand what drives the value of their company and how to increase it over time. Offered through the Missouri Small Business Development Center\, this confidential and comprehensive assessment gives you insight into your business from a buyer’s perspective. \nThe process begins with the Value Builder Score questionnaire\, which takes about 15 minutes to complete. Once finished\, you’ll receive an estimated business value\, an overall score out of 100\, and detailed results across eight key drivers of value. These drivers highlight specific strengths and areas for improvement that directly impact how attractive and valuable your business is in the marketplace. \nThe Value Builder System is useful whether you’re planning an exit or simply want to ensure you’re building a strong asset for the future. Improving your score can lead to real financial impact. Research across more than 70\,000 businesses shows that companies with a Value Builder Score of 80 or higher sell for a 71% premium compared to average-scoring businesses. \nAfter completing the assessment\, you can choose how to engage with the system based on your needs and preferred level of support:\nGroup Program (6–8 members): $1\,495/year\n1:1 Program: $4\,495/year \nIf you’re interested in joining a Value Builder cohort\, send us a message!
URL:https://sbdc.prodjex.dev/event/value-builder-business-owner-forum-group-3/2026-10-09/
LOCATION:4747 Troost Ave\, KCMO 64110
CATEGORIES:Exit,Scale
END:VEVENT
BEGIN:VEVENT
DTSTART;TZID=America/Chicago:20261015T083000
DTEND;TZID=America/Chicago:20261015T120000
DTSTAMP:20260420T170955
CREATED:20251222T182349Z
LAST-MODIFIED:20251222T182349Z
UID:10000950-1792053000-1792065600@sbdc.prodjex.dev
SUMMARY:ScaleUp! Kansas City
DESCRIPTION:SCALEUP! Kansas City is designed for established businesses that are ready to pursue significant growth and scale with intention. This intensive series of classes supports companies that have the potential to reach well beyond $1 million in revenue—or those already there who want to keep growing. \nThe program uses a cohort-based model that brings together business owners who are committed to growth and open to learning from both experts and peers. Over 16 structured sessions\, participants focus on strengthening leadership\, improving systems\, refining strategy\, and addressing the real challenges that come with scaling a business. The experience emphasizes practical application\, honest discussion\, and accountability. \nSCALEUP! is a selective opportunity and requires a strong commitment. Participants must meet eligibility requirements and be able to attend all sessions to fully benefit from the program. \nProgram qualifications include: \n\n\nAt least $250\,000 in revenue in the past year \n\n\nAt least 2 employees\, with the owner working full time in or on the business \n\n\nAt least 2 years in business \n\n\nAbility to attend all 16 sessions on Thursdays from 8:30 a.m. to Noon (approximately) \n\n\nCohort 16 begins on August 6\, 2026\, and concludes on November 19\, 2026. Applications are due by Friday\, July 17\, 2026\, with decisions communicated by 5:00 p.m. on Monday\, July 20\, 2026. \nApply here!
URL:https://sbdc.prodjex.dev/event/scaleup-kansas-city-3/2026-10-15/
LOCATION:Multiple locations within the KC Metro
CATEGORIES:Scale
END:VEVENT
BEGIN:VEVENT
DTSTART;TZID=America/Chicago:20261015T090000
DTEND;TZID=America/Chicago:20261015T120000
DTSTAMP:20260420T170955
CREATED:20251222T183927Z
LAST-MODIFIED:20251222T184337Z
UID:10000976-1792054800-1792065600@sbdc.prodjex.dev
SUMMARY:Value Builder Business Owner Forum - Group 1
DESCRIPTION:The Value Builder System helps business owners understand what drives the value of their company and how to increase it over time. Offered through the Missouri Small Business Development Center\, this confidential and comprehensive assessment gives you insight into your business from a buyer’s perspective. \nThe process begins with the Value Builder Score questionnaire\, which takes about 15 minutes to complete. Once finished\, you’ll receive an estimated business value\, an overall score out of 100\, and detailed results across eight key drivers of value. These drivers highlight specific strengths and areas for improvement that directly impact how attractive and valuable your business is in the marketplace. \nThe Value Builder System is useful whether you’re planning an exit or simply want to ensure you’re building a strong asset for the future. Improving your score can lead to real financial impact. Research across more than 70\,000 businesses shows that companies with a Value Builder Score of 80 or higher sell for a 71% premium compared to average-scoring businesses. \nAfter completing the assessment\, you can choose how to engage with the system based on your needs and preferred level of support:\nGroup Program (6–8 members): $1\,495/year\n1:1 Program: $4\,495/year \nIf you’re interested in joining a Value Builder cohort\, send us a message!
URL:https://sbdc.prodjex.dev/event/value-builder-business-owner-forum/2026-10-15/
LOCATION:4747 Troost Ave\, KCMO 64110
CATEGORIES:Exit,Scale
END:VEVENT
BEGIN:VEVENT
DTSTART;TZID=America/Chicago:20261020T150000
DTEND;TZID=America/Chicago:20261020T180000
DTSTAMP:20260420T170955
CREATED:20251222T181304Z
LAST-MODIFIED:20251222T181304Z
UID:10000925-1792508400-1792519200@sbdc.prodjex.dev
SUMMARY:Reading & Understanding Financial Statements
DESCRIPTION:Many small business owners feel unsure when looking at financial statements. This class helps take the mystery out of income statements and balance sheets so you can use them as tools\, not obstacles. \nParticipants will learn how to identify key information on an income statement and balance sheet and understand how those reports reflect the financial health of a business. The session introduces several common financial ratios\, explains how to calculate them\, and shows what they reveal about productivity\, efficiency\, and success. \nThe focus is on practical use. You’ll learn how to interpret financial information in ways that support better decision-making and clearer conversations with accountants\, lenders\, or advisors. \nBy the end of the class\, you’ll have a stronger understanding of how financial statements work and how to use them to make more informed\, confident business decisions. \nScholarships may be available\, apply here!
URL:https://sbdc.prodjex.dev/event/reading-understanding-financial-statements/
LOCATION:4747 Troost Ave\, KCMO 64110
CATEGORIES:Growth,Scale,Start,Tech
END:VEVENT
BEGIN:VEVENT
DTSTART;TZID=America/Chicago:20261022T083000
DTEND;TZID=America/Chicago:20261022T120000
DTSTAMP:20260420T170955
CREATED:20251222T182349Z
LAST-MODIFIED:20251222T182349Z
UID:10000951-1792657800-1792670400@sbdc.prodjex.dev
SUMMARY:ScaleUp! Kansas City
DESCRIPTION:SCALEUP! Kansas City is designed for established businesses that are ready to pursue significant growth and scale with intention. This intensive series of classes supports companies that have the potential to reach well beyond $1 million in revenue—or those already there who want to keep growing. \nThe program uses a cohort-based model that brings together business owners who are committed to growth and open to learning from both experts and peers. Over 16 structured sessions\, participants focus on strengthening leadership\, improving systems\, refining strategy\, and addressing the real challenges that come with scaling a business. The experience emphasizes practical application\, honest discussion\, and accountability. \nSCALEUP! is a selective opportunity and requires a strong commitment. Participants must meet eligibility requirements and be able to attend all sessions to fully benefit from the program. \nProgram qualifications include: \n\n\nAt least $250\,000 in revenue in the past year \n\n\nAt least 2 employees\, with the owner working full time in or on the business \n\n\nAt least 2 years in business \n\n\nAbility to attend all 16 sessions on Thursdays from 8:30 a.m. to Noon (approximately) \n\n\nCohort 16 begins on August 6\, 2026\, and concludes on November 19\, 2026. Applications are due by Friday\, July 17\, 2026\, with decisions communicated by 5:00 p.m. on Monday\, July 20\, 2026. \nApply here!
URL:https://sbdc.prodjex.dev/event/scaleup-kansas-city-3/2026-10-22/
LOCATION:Multiple locations within the KC Metro
CATEGORIES:Scale
END:VEVENT
BEGIN:VEVENT
DTSTART;TZID=America/Chicago:20261027T150000
DTEND;TZID=America/Chicago:20261027T180000
DTSTAMP:20260420T170955
CREATED:20251222T181456Z
LAST-MODIFIED:20251222T181456Z
UID:10000926-1793113200-1793124000@sbdc.prodjex.dev
SUMMARY:Show Me the Money! Navigating Funding Options for your Business
DESCRIPTION:Funding can feel confusing or out of reach\, but understanding your options is a powerful step toward growth. Show Me the Money! is designed to help entrepreneurs explore a variety of funding sources and make informed decisions about financing their business. \nThis class covers both traditional and alternative funding options\, including bank loans\, SBA loans\, micro-loans\, crowdfunding\, investors\, and grants. You’ll learn how each option works\, when it might be a good fit\, and what to consider before moving forward. \nA key part of the session focuses on the 5 C’s of bank lending\, giving you insight into how lenders evaluate loan applications. You’ll also explore how owner investment\, credit cards\, and other creative funding approaches can support your business when used thoughtfully. \nRather than pushing one solution\, this class helps you think strategically about funding—how much you need\, why you need it\, and how it aligns with your business goals. You’ll leave with greater confidence\, a clearer funding roadmap\, and practical tools to help you pursue the right financial support for your business. \nScholarships may be available\, apply here!
URL:https://sbdc.prodjex.dev/event/show-me-the-money-navigating-funding-options-for-your-business/
LOCATION:4747 Troost Ave\, KCMO 64110
CATEGORIES:Growth,Scale,Start,Tech
END:VEVENT
BEGIN:VEVENT
DTSTART;TZID=America/Chicago:20261029T083000
DTEND;TZID=America/Chicago:20261029T120000
DTSTAMP:20260420T170955
CREATED:20251222T182349Z
LAST-MODIFIED:20251222T182349Z
UID:10000952-1793262600-1793275200@sbdc.prodjex.dev
SUMMARY:ScaleUp! Kansas City
DESCRIPTION:SCALEUP! Kansas City is designed for established businesses that are ready to pursue significant growth and scale with intention. This intensive series of classes supports companies that have the potential to reach well beyond $1 million in revenue—or those already there who want to keep growing. \nThe program uses a cohort-based model that brings together business owners who are committed to growth and open to learning from both experts and peers. Over 16 structured sessions\, participants focus on strengthening leadership\, improving systems\, refining strategy\, and addressing the real challenges that come with scaling a business. The experience emphasizes practical application\, honest discussion\, and accountability. \nSCALEUP! is a selective opportunity and requires a strong commitment. Participants must meet eligibility requirements and be able to attend all sessions to fully benefit from the program. \nProgram qualifications include: \n\n\nAt least $250\,000 in revenue in the past year \n\n\nAt least 2 employees\, with the owner working full time in or on the business \n\n\nAt least 2 years in business \n\n\nAbility to attend all 16 sessions on Thursdays from 8:30 a.m. to Noon (approximately) \n\n\nCohort 16 begins on August 6\, 2026\, and concludes on November 19\, 2026. Applications are due by Friday\, July 17\, 2026\, with decisions communicated by 5:00 p.m. on Monday\, July 20\, 2026. \nApply here!
URL:https://sbdc.prodjex.dev/event/scaleup-kansas-city-3/2026-10-29/
LOCATION:Multiple locations within the KC Metro
CATEGORIES:Scale
END:VEVENT
END:VCALENDAR