BEGIN:VCALENDAR
VERSION:2.0
PRODID:-//Missouri SBDC - ECPv6.15.12.2//NONSGML v1.0//EN
CALSCALE:GREGORIAN
METHOD:PUBLISH
X-WR-CALNAME:Missouri SBDC
X-ORIGINAL-URL:https://sbdc.prodjex.dev
X-WR-CALDESC:Events for Missouri SBDC
REFRESH-INTERVAL;VALUE=DURATION:PT1H
X-Robots-Tag:noindex
X-PUBLISHED-TTL:PT1H
BEGIN:VTIMEZONE
TZID:America/Chicago
BEGIN:DAYLIGHT
TZOFFSETFROM:-0600
TZOFFSETTO:-0500
TZNAME:CDT
DTSTART:20250309T080000
END:DAYLIGHT
BEGIN:STANDARD
TZOFFSETFROM:-0500
TZOFFSETTO:-0600
TZNAME:CST
DTSTART:20251102T070000
END:STANDARD
BEGIN:DAYLIGHT
TZOFFSETFROM:-0600
TZOFFSETTO:-0500
TZNAME:CDT
DTSTART:20260308T080000
END:DAYLIGHT
BEGIN:STANDARD
TZOFFSETFROM:-0500
TZOFFSETTO:-0600
TZNAME:CST
DTSTART:20261101T070000
END:STANDARD
BEGIN:DAYLIGHT
TZOFFSETFROM:-0600
TZOFFSETTO:-0500
TZNAME:CDT
DTSTART:20270314T080000
END:DAYLIGHT
BEGIN:STANDARD
TZOFFSETFROM:-0500
TZOFFSETTO:-0600
TZNAME:CST
DTSTART:20271107T070000
END:STANDARD
END:VTIMEZONE
BEGIN:VEVENT
DTSTART;VALUE=DATE:20261116
DTEND;VALUE=DATE:20261120
DTSTAMP:20260420T174710
CREATED:20251222T192033Z
LAST-MODIFIED:20251222T192033Z
UID:10001036-1794787200-1795132799@sbdc.prodjex.dev
SUMMARY:GEW - Global Entrepreneurship Week - KC
DESCRIPTION:Why attend GEWKC?\n\n\n\n\n\n\n\n\nGROW\n\n\n\n\n\n\n\n\nExpand your knowledge and skills with expert-led sessions designed to fuel your entrepreneurial journey. Learn strategies that can take your business to the next level. \n\n\n\n\n\n\n\n\nGET INSPIRED\n\n\n\n\n\n\n\n\nHear from successful entrepreneurs and innovators who have turned their ideas into thriving businesses. You’’ll leave GEWKC feeling inspired and equipped to tackle new challenges. \n\n\n\n\n\n\n\n\nCONNECT\n\n\n\n\n\n\n\n\nNetwork with fellow entrepreneurs\, investors and industry leaders. Build relationships that could lead to partnerships\, collaborations and future opportunities. \n\n\n\n\n\n\n\n\nENJOY\n\n\n\n\n\n\n\n\nImmerse yourself with engaging activities\, interactive workshops and plenty of fun. Make the most of your time with both professional growth and personal enjoyment.
URL:https://sbdc.prodjex.dev/event/gew/
END:VEVENT
BEGIN:VEVENT
DTSTART;TZID=America/Chicago:20261118T090000
DTEND;TZID=America/Chicago:20261118T100000
DTSTAMP:20260420T174710
CREATED:20251222T200145Z
LAST-MODIFIED:20251222T200145Z
UID:10001047-1794992400-1794996000@sbdc.prodjex.dev
SUMMARY:Capabilities Statements for Government Contracts
DESCRIPTION:This course is designed to help small businesses and entrepreneurs understand the critical role of a Capability Statement in securing government contracts. Participants will learn the key elements needed to create a compelling and professional Capability Statement that effectively communicates their business’s core competencies\, differentiators\, and past performance to government agencies. Through real-world examples\, the course will walk attendees through best practices for formatting\, saving\, and tailoring their statements to different agencies and contracting opportunities. Additionally\, participants will gain insights into the registration process\, certifications\, and contact information that enhance credibility and responsiveness.
URL:https://sbdc.prodjex.dev/event/capabilities-statements-for-government-contracts/2026-11-18/
LOCATION:Zoom
END:VEVENT
END:VCALENDAR