BEGIN:VCALENDAR
VERSION:2.0
PRODID:-//Missouri SBDC - ECPv6.15.12.2//NONSGML v1.0//EN
CALSCALE:GREGORIAN
METHOD:PUBLISH
X-WR-CALNAME:Missouri SBDC
X-ORIGINAL-URL:https://sbdc.prodjex.dev
X-WR-CALDESC:Events for Missouri SBDC
REFRESH-INTERVAL;VALUE=DURATION:PT1H
X-Robots-Tag:noindex
X-PUBLISHED-TTL:PT1H
BEGIN:VTIMEZONE
TZID:America/Chicago
BEGIN:DAYLIGHT
TZOFFSETFROM:-0600
TZOFFSETTO:-0500
TZNAME:CDT
DTSTART:20250309T080000
END:DAYLIGHT
BEGIN:STANDARD
TZOFFSETFROM:-0500
TZOFFSETTO:-0600
TZNAME:CST
DTSTART:20251102T070000
END:STANDARD
BEGIN:DAYLIGHT
TZOFFSETFROM:-0600
TZOFFSETTO:-0500
TZNAME:CDT
DTSTART:20260308T080000
END:DAYLIGHT
BEGIN:STANDARD
TZOFFSETFROM:-0500
TZOFFSETTO:-0600
TZNAME:CST
DTSTART:20261101T070000
END:STANDARD
BEGIN:DAYLIGHT
TZOFFSETFROM:-0600
TZOFFSETTO:-0500
TZNAME:CDT
DTSTART:20270314T080000
END:DAYLIGHT
BEGIN:STANDARD
TZOFFSETFROM:-0500
TZOFFSETTO:-0600
TZNAME:CST
DTSTART:20271107T070000
END:STANDARD
END:VTIMEZONE
BEGIN:VEVENT
DTSTART;TZID=America/Chicago:20261013T090000
DTEND;TZID=America/Chicago:20261013T160000
DTSTAMP:20260420T161438
CREATED:20251222T181150Z
LAST-MODIFIED:20251222T181150Z
UID:10000923-1791882000-1791907200@sbdc.prodjex.dev
SUMMARY:SBIR Bootcamp
DESCRIPTION:SBIR Bootcamp is a focused\, two-day training designed for entrepreneurs and innovators with technologies that have strong commercial potential and align with federal research priorities. This program supports participants who are interested in applying for Small Business Innovation Research (SBIR) or Small Business Technology Transfer (STTR) grants. \nAttendance on both days is required to fully participate. During the bootcamp\, participants are guided through the full SBIR/STTR proposal development process. The instructors break down each section of the application and explain how to clearly present your technology\, research plan\, and commercialization strategy. \nThe bootcamp is taught by Julie Assel\, an experienced and highly regarded grant writer\, and Dr. Julie Edge\, a Missouri SBDC technology development and commercialization expert. Their combined expertise ensures participants receive both technical guidance and strategic insight. \nThe program includes group instruction\, interactive discussion\, and one-on-one coaching as participants work through their proposals. By the end of the bootcamp\, you’ll have developed a solid outline for your SBIR or STTR grant proposal and a clearer understanding of what’s required to submit a competitive application.
URL:https://sbdc.prodjex.dev/event/sbir-bootcamp-5/2026-10-13/
LOCATION:Zoom
CATEGORIES:Tech
END:VEVENT
BEGIN:VEVENT
DTSTART;TZID=America/Chicago:20261013T150000
DTEND;TZID=America/Chicago:20261013T180000
DTSTAMP:20260420T161438
CREATED:20251222T175219Z
LAST-MODIFIED:20251222T175219Z
UID:10000881-1791903600-1791914400@sbdc.prodjex.dev
SUMMARY:StartSmart: Your Business Foundations
DESCRIPTION:StartSmart: Your Business Foundations is designed for entrepreneurs who are ready to turn an idea into a real business—and want the right support along the way. This dynamic\, interactive course focuses on helping you build a solid foundation before moving forward. \nThroughout the program\, you’ll learn how to validate your business idea by confirming there’s a market for your product or service. You’ll practice customer discovery and market research\, develop a clear elevator pitch\, and create customer personas to better understand who you’re serving. The course also covers important legal structures and considerations so you can make informed decisions early. \nIn addition to strategy and planning\, StartSmart introduces essential business fundamentals such as accounting\, bookkeeping\, pricing\, sales\, and basic HR topics like hiring and managing contractors. You’ll explore how these pieces fit together to support long-term profitability and growth. \nThe course includes access to the Proof to Profit customer discovery curriculum\, a comprehensive binder of worksheets and resources\, and group learning with guided discussions. Participants also receive one-on-one coaching with an SBDC business coach and access to the LivePlan toolkit to build a business plan and three years of sales projections. Additional benefits include networking opportunities and access to four single-session classes that support businesses at any stage. \nBy the end of StartSmart\, you’ll leave with practical tools\, greater confidence\, and a clear roadmap to move from concept to launch. \nScholarships may be available\, apply here!
URL:https://sbdc.prodjex.dev/event/startsmart-your-business-foundations-6/2026-10-13/
LOCATION:4747 Troost Ave\, KCMO 64110
CATEGORIES:Start
END:VEVENT
END:VCALENDAR