BEGIN:VCALENDAR
VERSION:2.0
PRODID:-//Missouri SBDC - ECPv6.15.12.2//NONSGML v1.0//EN
CALSCALE:GREGORIAN
METHOD:PUBLISH
X-WR-CALNAME:Missouri SBDC
X-ORIGINAL-URL:https://sbdc.prodjex.dev
X-WR-CALDESC:Events for Missouri SBDC
REFRESH-INTERVAL;VALUE=DURATION:PT1H
X-Robots-Tag:noindex
X-PUBLISHED-TTL:PT1H
BEGIN:VTIMEZONE
TZID:America/Chicago
BEGIN:DAYLIGHT
TZOFFSETFROM:-0600
TZOFFSETTO:-0500
TZNAME:CDT
DTSTART:20250309T080000
END:DAYLIGHT
BEGIN:STANDARD
TZOFFSETFROM:-0500
TZOFFSETTO:-0600
TZNAME:CST
DTSTART:20251102T070000
END:STANDARD
BEGIN:DAYLIGHT
TZOFFSETFROM:-0600
TZOFFSETTO:-0500
TZNAME:CDT
DTSTART:20260308T080000
END:DAYLIGHT
BEGIN:STANDARD
TZOFFSETFROM:-0500
TZOFFSETTO:-0600
TZNAME:CST
DTSTART:20261101T070000
END:STANDARD
BEGIN:DAYLIGHT
TZOFFSETFROM:-0600
TZOFFSETTO:-0500
TZNAME:CDT
DTSTART:20270314T080000
END:DAYLIGHT
BEGIN:STANDARD
TZOFFSETFROM:-0500
TZOFFSETTO:-0600
TZNAME:CST
DTSTART:20271107T070000
END:STANDARD
END:VTIMEZONE
BEGIN:VEVENT
DTSTART;TZID=America/Chicago:20261006T090000
DTEND;TZID=America/Chicago:20261006T120000
DTSTAMP:20260420T161341
CREATED:20251222T184610Z
LAST-MODIFIED:20251222T184610Z
UID:10000999-1791277200-1791288000@sbdc.prodjex.dev
SUMMARY:Value Builder Business Owner Forum - Group 2
DESCRIPTION:The Value Builder System helps business owners understand what drives the value of their company and how to increase it over time. Offered through the Missouri Small Business Development Center\, this confidential and comprehensive assessment gives you insight into your business from a buyer’s perspective. \nThe process begins with the Value Builder Score questionnaire\, which takes about 15 minutes to complete. Once finished\, you’ll receive an estimated business value\, an overall score out of 100\, and detailed results across eight key drivers of value. These drivers highlight specific strengths and areas for improvement that directly impact how attractive and valuable your business is in the marketplace. \nThe Value Builder System is useful whether you’re planning an exit or simply want to ensure you’re building a strong asset for the future. Improving your score can lead to real financial impact. Research across more than 70\,000 businesses shows that companies with a Value Builder Score of 80 or higher sell for a 71% premium compared to average-scoring businesses. \nAfter completing the assessment\, you can choose how to engage with the system based on your needs and preferred level of support:\nGroup Program (6–8 members): $1\,495/year\n1:1 Program: $4\,495/year \nIf you’re interested in joining a Value Builder cohort\, send us a message!
URL:https://sbdc.prodjex.dev/event/value-builder-business-owner-forum-group-2/2026-10-06/
LOCATION:4747 Troost Ave\, KCMO 64110
CATEGORIES:Exit,Scale
END:VEVENT
BEGIN:VEVENT
DTSTART;TZID=America/Chicago:20261006T130000
DTEND;TZID=America/Chicago:20261006T143000
DTSTAMP:20260420T161341
CREATED:20251222T180811Z
LAST-MODIFIED:20251222T180811Z
UID:10000920-1791291600-1791297000@sbdc.prodjex.dev
SUMMARY:Winning Federal Research Grants
DESCRIPTION:Winning Federal Research Grants: SBIR/STTR Workshop is an introductory seminar designed for technology-based businesses seeking research and development funding through federal programs. This session provides an overview of the Small Business Innovation Research (SBIR) and Small Business Technology Transfer (STTR) programs and how they support innovation and commercialization. \nParticipants learn how to identify relevant grant opportunities\, understand program requirements\, and navigate the application process. The workshop also highlights best practices for strengthening proposals and increasing competitiveness in these highly selective funding programs. \nSBIR and STTR grants encourage domestic small businesses to participate in federal research and development efforts with strong potential for commercialization. These programs help small businesses explore new technologies\, reduce technical risk\, and move innovations closer to market. By engaging small businesses in the nation’s R&D efforts\, SBIR and STTR support both economic growth and technological advancement. \nNumerous Kansas City–area companies have successfully funded their research through SBIR and STTR grants\, with awards that can total up to $1.5 million per business. This workshop helps participants understand how their business could qualify and what steps are required to pursue this funding.
URL:https://sbdc.prodjex.dev/event/winning-federal-research-grants/
LOCATION:Zoom
CATEGORIES:Tech
END:VEVENT
BEGIN:VEVENT
DTSTART;TZID=America/Chicago:20261006T150000
DTEND;TZID=America/Chicago:20261006T180000
DTSTAMP:20260420T161341
CREATED:20251222T175219Z
LAST-MODIFIED:20251222T175219Z
UID:10000880-1791298800-1791309600@sbdc.prodjex.dev
SUMMARY:StartSmart: Your Business Foundations
DESCRIPTION:StartSmart: Your Business Foundations is designed for entrepreneurs who are ready to turn an idea into a real business—and want the right support along the way. This dynamic\, interactive course focuses on helping you build a solid foundation before moving forward. \nThroughout the program\, you’ll learn how to validate your business idea by confirming there’s a market for your product or service. You’ll practice customer discovery and market research\, develop a clear elevator pitch\, and create customer personas to better understand who you’re serving. The course also covers important legal structures and considerations so you can make informed decisions early. \nIn addition to strategy and planning\, StartSmart introduces essential business fundamentals such as accounting\, bookkeeping\, pricing\, sales\, and basic HR topics like hiring and managing contractors. You’ll explore how these pieces fit together to support long-term profitability and growth. \nThe course includes access to the Proof to Profit customer discovery curriculum\, a comprehensive binder of worksheets and resources\, and group learning with guided discussions. Participants also receive one-on-one coaching with an SBDC business coach and access to the LivePlan toolkit to build a business plan and three years of sales projections. Additional benefits include networking opportunities and access to four single-session classes that support businesses at any stage. \nBy the end of StartSmart\, you’ll leave with practical tools\, greater confidence\, and a clear roadmap to move from concept to launch. \nScholarships may be available\, apply here!
URL:https://sbdc.prodjex.dev/event/startsmart-your-business-foundations-6/2026-10-06/
LOCATION:4747 Troost Ave\, KCMO 64110
CATEGORIES:Start
END:VEVENT
END:VCALENDAR