BEGIN:VCALENDAR
VERSION:2.0
PRODID:-//Missouri SBDC - ECPv6.15.12.2//NONSGML v1.0//EN
CALSCALE:GREGORIAN
METHOD:PUBLISH
X-ORIGINAL-URL:https://sbdc.prodjex.dev
X-WR-CALDESC:Events for Missouri SBDC
REFRESH-INTERVAL;VALUE=DURATION:PT1H
X-Robots-Tag:noindex
X-PUBLISHED-TTL:PT1H
BEGIN:VTIMEZONE
TZID:America/Chicago
BEGIN:DAYLIGHT
TZOFFSETFROM:-0600
TZOFFSETTO:-0500
TZNAME:CDT
DTSTART:20250309T080000
END:DAYLIGHT
BEGIN:STANDARD
TZOFFSETFROM:-0500
TZOFFSETTO:-0600
TZNAME:CST
DTSTART:20251102T070000
END:STANDARD
BEGIN:DAYLIGHT
TZOFFSETFROM:-0600
TZOFFSETTO:-0500
TZNAME:CDT
DTSTART:20260308T080000
END:DAYLIGHT
BEGIN:STANDARD
TZOFFSETFROM:-0500
TZOFFSETTO:-0600
TZNAME:CST
DTSTART:20261101T070000
END:STANDARD
BEGIN:DAYLIGHT
TZOFFSETFROM:-0600
TZOFFSETTO:-0500
TZNAME:CDT
DTSTART:20270314T080000
END:DAYLIGHT
BEGIN:STANDARD
TZOFFSETFROM:-0500
TZOFFSETTO:-0600
TZNAME:CST
DTSTART:20271107T070000
END:STANDARD
END:VTIMEZONE
BEGIN:VEVENT
DTSTART;TZID=America/Chicago:20260401T150000
DTEND;TZID=America/Chicago:20260401T180000
DTSTAMP:20260420T083145
CREATED:20251222T160710Z
LAST-MODIFIED:20251222T160823Z
UID:10000757-1775055600-1775066400@sbdc.prodjex.dev
SUMMARY:Tech Startup Mastery
DESCRIPTION:Tech Startup Mastery is a nine-session program designed for entrepreneurs developing technology or science-based businesses who want guidance\, structure\, and connection as they grow. With Kansas City’s entrepreneurial ecosystem moving quickly\, this course helps founders navigate critical decisions with greater confidence. \nThe program was designed by entrepreneurs who understand the challenges of building innovative companies. Participants explore essential topics such as identifying funding sources and investors\, understanding pre- and post-money valuation\, pitching to investors\, managing financial projections\, and navigating due diligence. Additional focus areas include deal sheets\, legal structures\, and assessing business feasibility and market demand. \nSessions are led by experienced business coaches and successful entrepreneurs who combine instruction with hands-on guidance and small-group discussions. Participants learn not only from facilitators\, but also from one another\, creating a collaborative learning environment and a strong peer network. \nBy the end of Tech Startup Mastery\, participants gain practical tools\, clearer direction\, and valuable connections—helping turn a great idea into a viable\, market-ready innovation. \nScholarships may be available\, apply here!
URL:https://sbdc.prodjex.dev/event/tsm/2026-04-01/
LOCATION:4747 Troost Ave\, KCMO 64110
CATEGORIES:Tech
END:VEVENT
BEGIN:VEVENT
DTSTART;TZID=America/Chicago:20260401T163000
DTEND;TZID=America/Chicago:20260401T190000
DTSTAMP:20260420T083145
CREATED:20251222T163708Z
LAST-MODIFIED:20251222T163708Z
UID:10000764-1775061000-1775070000@sbdc.prodjex.dev
SUMMARY:Pitching to Investors
DESCRIPTION:Raising investment capital starts with a clear\, well-structured pitch. Pitching to Investors is designed for entrepreneurs who want to better understand how to present their business to potential investors and increase their chances of securing funding. \nThis class breaks down the core components of an effective investor pitch. Participants learn how to clearly communicate the value of their product or service\, describe their target market\, and explain competitive advantages. The workshop also addresses common investor pet peeves and mistakes that can quickly undermine credibility. \nSpecial attention is given to financial slides—what investors expect to see\, what raises red flags\, and how to present numbers in a way that supports your story. You’ll also learn how to make a clear “ask\,” understand what to leave out of your pitch\, and avoid overselling or overcomplicating your message. \nThe workshop is presented by Michele Weigand\, managing partner of Focused Perspective\, who brings more than 27 years of experience in finance and business development. Her background includes serving as chief investment officer for KTEC and managing investments for GE Mortgage and GE Reinsurance. \nParticipants leave with practical guidance\, clearer expectations\, and greater confidence when preparing to pitch to investors. \nScholarships may be available\, apply here!
URL:https://sbdc.prodjex.dev/event/pitching-to-investors-6/
LOCATION:4747 Troost Ave\, KCMO 64110
CATEGORIES:Tech
END:VEVENT
END:VCALENDAR